BEGIN:VCALENDAR
VERSION:2.0
PRODID:-//schloss-dornhofen.at - ECPv6.15.20//NONSGML v1.0//EN
CALSCALE:GREGORIAN
METHOD:PUBLISH
X-WR-CALNAME:schloss-dornhofen.at
X-ORIGINAL-URL:https://schloss-dornhofen.at
X-WR-CALDESC:Veranstaltungen für schloss-dornhofen.at
REFRESH-INTERVAL;VALUE=DURATION:PT1H
X-Robots-Tag:noindex
X-PUBLISHED-TTL:PT1H
BEGIN:VTIMEZONE
TZID:Europe/Berlin
BEGIN:DAYLIGHT
TZOFFSETFROM:+0100
TZOFFSETTO:+0200
TZNAME:CEST
DTSTART:20250330T010000
END:DAYLIGHT
BEGIN:STANDARD
TZOFFSETFROM:+0200
TZOFFSETTO:+0100
TZNAME:CET
DTSTART:20251026T010000
END:STANDARD
BEGIN:DAYLIGHT
TZOFFSETFROM:+0100
TZOFFSETTO:+0200
TZNAME:CEST
DTSTART:20260329T010000
END:DAYLIGHT
BEGIN:STANDARD
TZOFFSETFROM:+0200
TZOFFSETTO:+0100
TZNAME:CET
DTSTART:20261025T010000
END:STANDARD
BEGIN:DAYLIGHT
TZOFFSETFROM:+0100
TZOFFSETTO:+0200
TZNAME:CEST
DTSTART:20270328T010000
END:DAYLIGHT
BEGIN:STANDARD
TZOFFSETFROM:+0200
TZOFFSETTO:+0100
TZNAME:CET
DTSTART:20271031T010000
END:STANDARD
END:VTIMEZONE
BEGIN:VEVENT
DTSTART;TZID=Europe/Berlin:20261205T120000
DTEND;TZID=Europe/Berlin:20261205T170000
DTSTAMP:20260421T182335
CREATED:20231021T104825Z
LAST-MODIFIED:20260110T234808Z
UID:17348-1796472000-1796490000@schloss-dornhofen.at
SUMMARY:WEIHNACHTSMARKT 2026
DESCRIPTION:Kunstwerken & Weihnachtsschmuck\nDurch die verschiedensten Ausstellern verwandelt sich das Schloss in einen besinnlichen Ort und bietet somit die perfekte Einstimmung auf Weihnachten für die ganze Familie. \nÖFFNUNGSZEITEN: \n\nTAG SAMSTAG: Markt von 12 – 17 Uhr  – Schlossrestaurant  von 11 – 17 Uhr (Küche von 11 – 16 Uhr)\nTAG SONNTAG: Markt von 10 – 17 Uhr  –  Schlossrestaurant von 10 – 17 Uhr (Küche von 11 – 16 Uhr)\n\nBei unserem Weihnachtsmarkt zeigt sich der Winter von der schönsten Seite während wir Sie kulinarisch in unserem Schlossrestaurant verwöhnen. Küchenbetrieb an beiden Tagen  von 11 – 16 Uhr. \nReservierungen nehmen wir gerne unter:  event@schloss-dornhofen.at oder +43 664 452 59 50 entgegen. \nEINTRITT FREI! \nWir freuen uns auf Ihren Besuch!\nIhr SCHLOSS DORNHOFEN TEAM \nSie wollen keine Veranstaltung mehr verpassen\, dann melden Sie sich zu unserem Newsletter an. Wir informieren Sie zeitgerecht über Veranstaltung & Themen Brunch! \nNewsletter \n \n 
URL:https://schloss-dornhofen.at/veranstaltung/weihnachtsmarkt-2026/
LOCATION:Schlossweg 4\, 8062 Eggersdorf
CATEGORIES:Markt,special-event
ATTACH;FMTTYPE=image/jpeg:https://schloss-dornhofen.at/wp-content/uploads/2023/10/AdobeStock_474783621-scaled.jpeg
END:VEVENT
BEGIN:VEVENT
DTSTART;TZID=Europe/Berlin:20261206T100000
DTEND;TZID=Europe/Berlin:20261206T170000
DTSTAMP:20260421T182335
CREATED:20231117T071306Z
LAST-MODIFIED:20260111T093408Z
UID:17391-1796551200-1796576400@schloss-dornhofen.at
SUMMARY:WEIHNACHTSMARKT 2026
DESCRIPTION:Kunstwerken & Weihnachtsschmuck\nDurch die verschiedensten Ausstellern verwandelt sich das Schloss in einen besinnlichen Ort und bietet somit die perfekte Einstimmung auf Weihnachten für die ganze Familie. \nÖFFNUNGSZEITEN: \n\nTAG SAMSTAG: Markt von 12 – 17 Uhr  – Schlossrestaurant  von 11 – 17 Uhr (Küche von 11 – 16 Uhr)\nTAG SONNTAG: Markt von 10 – 17 Uhr  –  Schlossrestaurant von 10 – 17 Uhr (Küche von 11 – 16 Uhr)\n\nBei unserem Weihnachtsmarkt zeigt sich der Winter von der schönsten Seite während wir Sie kulinarisch in unserem Schlossrestaurant verwöhnen. Küchenbetrieb an beiden Tagen  von 11 – 16 Uhr. \nReservierungen nehmen wir gerne unter:  event@schloss-dornhofen.at oder +43 664 452 59 50 entgegen. \nEINTRITT FREI! \nWir freuen uns auf Ihren Besuch!\nIhr SCHLOSS DORNHOFEN TEAM \nSie wollen keine Veranstaltung mehr verpassen\, dann melden Sie sich zu unserem Newsletter an. Wir informieren Sie zeitgerecht über Veranstaltung & Themen Brunch! \nNewsletter
URL:https://schloss-dornhofen.at/veranstaltung/weihnachtsmarkt-2026-2/
LOCATION:Schlossweg 4\, 8062 Eggersdorf
CATEGORIES:Markt,special-event
ATTACH;FMTTYPE=image/jpeg:https://schloss-dornhofen.at/wp-content/uploads/2023/10/AdobeStock_474783621-scaled.jpeg
END:VEVENT
BEGIN:VEVENT
DTSTART;TZID=Europe/Berlin:20261213T120000
DTEND;TZID=Europe/Berlin:20261213T150000
DTSTAMP:20260421T182335
CREATED:20231021T105319Z
LAST-MODIFIED:20260111T093314Z
UID:17354-1797163200-1797174000@schloss-dornhofen.at
SUMMARY:WEIHNACHTSBRUNCH
DESCRIPTION:Festlicher Weihnachtsbrunch im Schloss Dornhofen.\nGemeinsam genießen\, das Jahr langsam ausklingen lassen und sich mit feinen Köstlichkeiten auf die Feiertage einstimmen. \nLIVE – MUSIK:\nWährend Sie sich an dem kulinarischen Erlebnis erfreuen\, werden Sie von einer erstklassigen weihnachtlichen\, musikalischen Unterhaltung begleitet. Details werden noch zeitnah bekannt gegeben. \nPreis pro Person € 69\,– Kinder von 6-12 Jahre € 29\,-\n(Preis beinhaltet. Aperitif\, 4-gängiges Buffet\, Musikbeitrag) \nReservierungen gerne unter: event@schloss-dornhofen.at  oder +43664 45 25 950. \nDer Brunch findet bei jeder Witterung statt. \nSind Sie an weiteren Veranstaltungen oder Themen Brunch interessiert\, dann abonnieren Sie unseren Newsletter. Wir halten Sie auf dem Laufenden! \nwww.schloss-dornhofen.at/newsletter \nWir wünschen Ihnen und Ihrer Familie eine besinnliche  Weihnachtszeit! \nIhr SCHLOSS DORNHOFEN TEAM
URL:https://schloss-dornhofen.at/veranstaltung/weihnachtsbrunch-2/
LOCATION:Schlossweg 4\, 8062 Eggersdorf
CATEGORIES:Brunch,Live-Musik
ATTACH;FMTTYPE=image/jpeg:https://schloss-dornhofen.at/wp-content/uploads/2023/10/christmas-table-setting-2021-08-29-11-40-40-utc-scaled.jpg
END:VEVENT
END:VCALENDAR