BEGIN:VCALENDAR
VERSION:2.0
PRODID:-//schloss-dornhofen.at - ECPv6.15.20//NONSGML v1.0//EN
CALSCALE:GREGORIAN
METHOD:PUBLISH
X-ORIGINAL-URL:https://schloss-dornhofen.at
X-WR-CALDESC:Veranstaltungen für schloss-dornhofen.at
REFRESH-INTERVAL;VALUE=DURATION:PT1H
X-Robots-Tag:noindex
X-PUBLISHED-TTL:PT1H
BEGIN:VTIMEZONE
TZID:Europe/Berlin
BEGIN:DAYLIGHT
TZOFFSETFROM:+0100
TZOFFSETTO:+0200
TZNAME:CEST
DTSTART:20250330T010000
END:DAYLIGHT
BEGIN:STANDARD
TZOFFSETFROM:+0200
TZOFFSETTO:+0100
TZNAME:CET
DTSTART:20251026T010000
END:STANDARD
BEGIN:DAYLIGHT
TZOFFSETFROM:+0100
TZOFFSETTO:+0200
TZNAME:CEST
DTSTART:20260329T010000
END:DAYLIGHT
BEGIN:STANDARD
TZOFFSETFROM:+0200
TZOFFSETTO:+0100
TZNAME:CET
DTSTART:20261025T010000
END:STANDARD
BEGIN:DAYLIGHT
TZOFFSETFROM:+0100
TZOFFSETTO:+0200
TZNAME:CEST
DTSTART:20270328T010000
END:DAYLIGHT
BEGIN:STANDARD
TZOFFSETFROM:+0200
TZOFFSETTO:+0100
TZNAME:CET
DTSTART:20271031T010000
END:STANDARD
END:VTIMEZONE
BEGIN:VEVENT
DTSTART;TZID=Europe/Berlin:20261108T120000
DTEND;TZID=Europe/Berlin:20261108T150000
DTSTAMP:20260421T163012
CREATED:20210923T120723Z
LAST-MODIFIED:20260111T093627Z
UID:16897-1794139200-1794150000@schloss-dornhofen.at
SUMMARY:WILD BRUNCH
DESCRIPTION:Allerlei vom Hirsch\, Reh & Wildschwein\nKräftige Spezialitäten\, saisonale Zutaten und eine gemütliche Atmosphäre machen den Wildbrunch zum perfekten Treffpunkt für alle\, die den Herbst kulinarisch lieben. \nLIVE-MUSIK:\nDie Künstler werden noch zeitnah bekannt gegeben. \n4-GÄNGE-BUFFET:\nBeginnen Sie mit einer Auswahl an herzhaften Vorspeisen\, gefolgt von wärmenden Suppen und aromatischen Hauptgerichten. Die süßen Versuchungen unserer Desserts runden das Festmahl perfekt ab.\nBuffet von 12-15 Uhr \nPREISE & RESERVIERUNG:\nSichern Sie sich Ihren Platz\, um gemeinsam mit uns den Herbst in all seiner Pracht zu feiern. Die begrenzten Plätze füllen sich schnell\, daher empfehlen wir\, frühzeitig zu reservieren. \nPreis pro Person € 69\,- / Kinder von 6-12 Jahre € 29\,–\n(Preis beinhaltet: Aperitif\, 4-gängiges Buffet\, Musikbeitrag) \nReservierungen gerne unter event@schloss-dornhofen.at oder unter: +43 664 45 25 950. Der Brunch findet bei jeder Witterung statt. \nWEITER INFORMATIONEN:\nZusätzlich informieren wir Sie zeitnah über unseren Newsletter!\nJETZT ABONNIEREN: www.schloss-dornhofen.at/newsletter
URL:https://schloss-dornhofen.at/veranstaltung/wild-brunch/
LOCATION:Schlossweg 4\, 8062 Eggersdorf
CATEGORIES:Brunch,Live-Musik
ATTACH;FMTTYPE=image/jpeg:https://schloss-dornhofen.at/wp-content/uploads/2023/10/thanksgiving-holiday-dinner-table-setting-with-fal-2022-11-17-22-43-25-utc-scaled.jpg
END:VEVENT
END:VCALENDAR