BEGIN:VCALENDAR
VERSION:2.0
PRODID:-//schloss-dornhofen.at - ECPv6.15.20//NONSGML v1.0//EN
CALSCALE:GREGORIAN
METHOD:PUBLISH
X-WR-CALNAME:schloss-dornhofen.at
X-ORIGINAL-URL:https://schloss-dornhofen.at
X-WR-CALDESC:Veranstaltungen für schloss-dornhofen.at
REFRESH-INTERVAL;VALUE=DURATION:PT1H
X-Robots-Tag:noindex
X-PUBLISHED-TTL:PT1H
BEGIN:VTIMEZONE
TZID:Europe/Berlin
BEGIN:DAYLIGHT
TZOFFSETFROM:+0100
TZOFFSETTO:+0200
TZNAME:CEST
DTSTART:20240331T010000
END:DAYLIGHT
BEGIN:STANDARD
TZOFFSETFROM:+0200
TZOFFSETTO:+0100
TZNAME:CET
DTSTART:20241027T010000
END:STANDARD
BEGIN:DAYLIGHT
TZOFFSETFROM:+0100
TZOFFSETTO:+0200
TZNAME:CEST
DTSTART:20250330T010000
END:DAYLIGHT
BEGIN:STANDARD
TZOFFSETFROM:+0200
TZOFFSETTO:+0100
TZNAME:CET
DTSTART:20251026T010000
END:STANDARD
BEGIN:DAYLIGHT
TZOFFSETFROM:+0100
TZOFFSETTO:+0200
TZNAME:CEST
DTSTART:20260329T010000
END:DAYLIGHT
BEGIN:STANDARD
TZOFFSETFROM:+0200
TZOFFSETTO:+0100
TZNAME:CET
DTSTART:20261025T010000
END:STANDARD
END:VTIMEZONE
BEGIN:VEVENT
DTSTART;TZID=Europe/Berlin:20250914T120000
DTEND;TZID=Europe/Berlin:20250914T150000
DTSTAMP:20260419T151347
CREATED:20240222T144234Z
LAST-MODIFIED:20250527T135821Z
UID:17536-1757851200-1757862000@schloss-dornhofen.at
SUMMARY:BRUNCH MIT BETTY O
DESCRIPTION:SCHLOSSTAFEL BRUNCH MIT BETTY O!\nDie facettenreiche Liederakrobatin am roten Klavier\, die nach einer internationalen\nMusicalkarriere in ihre Heimat\, die Südsteiermark\, zurückkehrte und als erste\nÖsterreicherin den renommierten Kulturbörsenpreis „Freiburger Leiter“ erhielt\, spannt in\ndiesem Solokonzert im Rahmen eines festlichen Schlosstafel-Brunches den Bogen ihrer\nkünstlerischen Reise. Mit gewohntem südsteirischen Charme\, der scharfsinnigen Säure in\nden Texten und der vollen Süße in der Stimme\, kredenzt sie ihre witzigen und\nhintergründigen Mundwerklieder – eine mitreißende Musikpoesie aus Wein\, Liebe und\nLeben. \nKONZERT:\n\nSchloss Dornhofen\, Eggersdorf bei Graz\nSonntag\, 14. September\, 12:00-15:00 Uhr\nbestellung@bettyo.at (+43 6641524422) oder office@schloss-dornhofen.at (+43 664 4525950) \nPREISE & RESERVIERUNG:\nSichern Sie sich Ihren Platz\, die begrenzten Plätze füllen sich schnell\, daher empfehlen wir\, frühzeitig zu reservieren. \nKULINARIK: Preis pro Person € 50\,-\nKONZERT: Preis pro Person € 39\,- \nKULINARIK & BRUNCH: Preis pro Person € 89\,-\nReservierungen gerne unter event@schloss-dornhofen.at oder unter: +43 664 45 25 950.\nODER\nbestellung@bettyo.at (+43 6641524422) \nWEITER INFORMATIONEN:\nVeranstaltungen und Themen Brunch finden Sie auf unserer Website. Zusätzlich informieren wir Sie zeitnah über unseren Newsletter!\nJETZT ABONNIEREN: www.schloss-dornhofen.at/newsletter
URL:https://schloss-dornhofen.at/veranstaltung/brunchbetty0/
LOCATION:Schlossweg 4\, 8062 Eggersdorf
CATEGORIES:Brunch,Konzerte,special-event
ATTACH;FMTTYPE=image/png:https://schloss-dornhofen.at/wp-content/uploads/2024/02/20-Jahre-Betty-O.png
END:VEVENT
BEGIN:VEVENT
DTSTART;TZID=Europe/Berlin:20250921T120000
DTEND;TZID=Europe/Berlin:20250921T150000
DTSTAMP:20260419T151347
CREATED:20240527T172907Z
LAST-MODIFIED:20250901T054851Z
UID:17633-1758456000-1758466800@schloss-dornhofen.at
SUMMARY:SPANISCHER BRUNCH - Ausgebucht!
DESCRIPTION:AROMEN AUS SPANIEN\nGenießen Sie die Leichtigkeit der spanischen Küche und lassen Sie sich von unseren Köstlichkeiten verführen. \nLIVE-MUSIK:\nBegleitet wird der Brunch von 4 Gitarristen \nSPANISCHES BUFFET:\nEin unvergesslicher Tag voller kulinarischer Höhepunkte. Unser spanisches Buffet verwöhnt Sie mit einer Vielfalt an köstlichen Speisen\, die von frischen Salaten hin zu aromatische Antipasti reichen.\nBuffet von 12-15 Uhr \nPREISE & RESERVIERUNG:\nReservieren Sie Ihren Platz\, um sicherzustellen\, dass Sie diese außergewöhnliche Veranstaltung nicht verpassen. Die begrenzten Plätze füllen sich schnell. \nPreis pro Person € 69\,- / Kinder von 6-12 Jahre € 29\,-  \n(Preis beinhaltet: Aperitif\, 4-gängiges Buffet\, Musikbeitrag) \nReservierungen gerne unter event@schloss-dornhofen.at oder unter: +43 664 45 25 950. Der Brunch findet bei jeder Witterung statt. \nWEITER INFORMATIONEN:\nVeranstaltungen und Themen Brunch finden Sie auf unserer Website. Zusätzlich informieren wir Sie zeitnah über unseren Newsletter!\nJETZT ABONNIEREN: www.schloss-dornhofen.at/newsletter
URL:https://schloss-dornhofen.at/veranstaltung/spanischer-brunch/
LOCATION:Schloss Dornhofen\, Schlossweg 4\, 8062 Eggersdorf\, Eggersdorf bei Graz\, 8062\, Österreich
CATEGORIES:Brunch,Live-Musik,special-event
ATTACH;FMTTYPE=image/jpeg:https://schloss-dornhofen.at/wp-content/uploads/2024/05/AdobeStock_254143840-scaled.jpeg
END:VEVENT
END:VCALENDAR