BEGIN:VCALENDAR
VERSION:2.0
PRODID:-//schloss-dornhofen.at - ECPv6.15.20//NONSGML v1.0//EN
CALSCALE:GREGORIAN
METHOD:PUBLISH
X-ORIGINAL-URL:https://schloss-dornhofen.at
X-WR-CALDESC:Veranstaltungen für schloss-dornhofen.at
REFRESH-INTERVAL;VALUE=DURATION:PT1H
X-Robots-Tag:noindex
X-PUBLISHED-TTL:PT1H
BEGIN:VTIMEZONE
TZID:Europe/Berlin
BEGIN:DAYLIGHT
TZOFFSETFROM:+0100
TZOFFSETTO:+0200
TZNAME:CEST
DTSTART:20240331T010000
END:DAYLIGHT
BEGIN:STANDARD
TZOFFSETFROM:+0200
TZOFFSETTO:+0100
TZNAME:CET
DTSTART:20241027T010000
END:STANDARD
BEGIN:DAYLIGHT
TZOFFSETFROM:+0100
TZOFFSETTO:+0200
TZNAME:CEST
DTSTART:20250330T010000
END:DAYLIGHT
BEGIN:STANDARD
TZOFFSETFROM:+0200
TZOFFSETTO:+0100
TZNAME:CET
DTSTART:20251026T010000
END:STANDARD
BEGIN:DAYLIGHT
TZOFFSETFROM:+0100
TZOFFSETTO:+0200
TZNAME:CEST
DTSTART:20260329T010000
END:DAYLIGHT
BEGIN:STANDARD
TZOFFSETFROM:+0200
TZOFFSETTO:+0100
TZNAME:CET
DTSTART:20261025T010000
END:STANDARD
END:VTIMEZONE
BEGIN:VEVENT
DTSTART;TZID=Europe/Berlin:20250615T120000
DTEND;TZID=Europe/Berlin:20250615T150000
DTSTAMP:20260419T201649
CREATED:20250209T152141Z
LAST-MODIFIED:20250608T173346Z
UID:17742-1749988800-1749999600@schloss-dornhofen.at
SUMMARY:FRANZÖSISCHER BRUNCH
DESCRIPTION:FRANZÖSISCHER BRUNCH – EIN GENUSS À LA FRANÇAISE – \nWir laden Sie zu einem kulinarischen Streifzug durch Frankreich ein! Lassen Sie sich von einem exquisiten 4-Gänge-Buffet verwöhnen und genießen Sie die Leichtigkeit und Raffinesse der französischen Küche. In der eleganten Atmosphäre von Schloss Dornhofen und begleitet von stimmungsvoller Live-Musik wird dieser Brunch zu einem echten Genussmoment. \nLIVE-MUSIK:\n> Temperament… Gefühl… Charme… Genuss… <<  \nEin ebenso gefühl- wie auch temperamentvoller Einblick quer durch die Vielfalt der französischen Chansons\, alt und neu.  \nZusammen mit dem virtuosen Manu Mazé ( F ) am Accordéon\, presentiert Rebecca Anouche\, gebürtige Pariserin mit armenischen Wurzeln\, Welthits von Piaf\, Brel\, Aznavour\, Bécauld u.A  \nDieses außergewöhnliche Duo verspricht genussvolle Stunden\, die bis tief in die Seele rühren! \n4-GÄNGE-BUFFET:\nUnser Küchenteam hat ein Menü kreiert\, das die Vielfalt der französischen Küche zelebriert. Freuen Sie sich auf erlesene Vorspeisen\, aromatische Suppen\, raffinierte Hauptgerichte und verführerische Desserts – ein Fest für die Sinne.\nBuffet von 12:00 – 15:00 Uhr \nPREISE & RESERVIERUNG:\nSichern Sie sich Ihren Platz für dieses besondere Ereignis! \nPreis pro Person € 69\,-\nKinder von 6-12 Jahre € 29\,-\n(Preis beinhaltet: Aperitif\, 4-gängiges Buffet & Musikbeitrag) \nReservierungen gerne unter event@schloss-dornhofen.at oder unter: +43 664 45 25 950. \nDer Brunch findet bei jeder Witterung statt. \nWEITERE INFORMATIONEN:\nMehr Veranstaltungen & Themen-Brunches finden Sie auf unserer Website – oder abonnieren Sie unseren Newsletter! \nJETZT ABONNIEREN: www.schloss-dornhofen.at/newsletter
URL:https://schloss-dornhofen.at/veranstaltung/franzoesischer-brunch-2/
LOCATION:Schloss Dornhofen\, Schlossweg 4\, 8062 Eggersdorf\, Eggersdorf bei Graz\, 8062\, Österreich
CATEGORIES:Brunch,Live-Musik
ATTACH;FMTTYPE=image/jpeg:https://schloss-dornhofen.at/wp-content/uploads/2025/02/Franz.Brunch_Beitragsbild2.jpg
END:VEVENT
END:VCALENDAR