BEGIN:VCALENDAR
VERSION:2.0
PRODID:-//schloss-dornhofen.at - ECPv6.15.20//NONSGML v1.0//EN
CALSCALE:GREGORIAN
METHOD:PUBLISH
X-WR-CALNAME:schloss-dornhofen.at
X-ORIGINAL-URL:https://schloss-dornhofen.at
X-WR-CALDESC:Veranstaltungen für schloss-dornhofen.at
REFRESH-INTERVAL;VALUE=DURATION:PT1H
X-Robots-Tag:noindex
X-PUBLISHED-TTL:PT1H
BEGIN:VTIMEZONE
TZID:Europe/Berlin
BEGIN:DAYLIGHT
TZOFFSETFROM:+0100
TZOFFSETTO:+0200
TZNAME:CEST
DTSTART:20240331T010000
END:DAYLIGHT
BEGIN:STANDARD
TZOFFSETFROM:+0200
TZOFFSETTO:+0100
TZNAME:CET
DTSTART:20241027T010000
END:STANDARD
BEGIN:DAYLIGHT
TZOFFSETFROM:+0100
TZOFFSETTO:+0200
TZNAME:CEST
DTSTART:20250330T010000
END:DAYLIGHT
BEGIN:STANDARD
TZOFFSETFROM:+0200
TZOFFSETTO:+0100
TZNAME:CET
DTSTART:20251026T010000
END:STANDARD
BEGIN:DAYLIGHT
TZOFFSETFROM:+0100
TZOFFSETTO:+0200
TZNAME:CEST
DTSTART:20260329T010000
END:DAYLIGHT
BEGIN:STANDARD
TZOFFSETFROM:+0200
TZOFFSETTO:+0100
TZNAME:CET
DTSTART:20261025T010000
END:STANDARD
END:VTIMEZONE
BEGIN:VEVENT
DTSTART;TZID=Europe/Berlin:20250504T120000
DTEND;TZID=Europe/Berlin:20250504T150000
DTSTAMP:20260419T214648
CREATED:20230201T110302Z
LAST-MODIFIED:20250217T221412Z
UID:17165-1746360000-1746370800@schloss-dornhofen.at
SUMMARY:ERÖFFNUNGSBRUNCH
DESCRIPTION:FRÜHLINGSERWACHEN & GENUSSZAUBER! –\nWillkommen zu unserem Eröffnungsbrunch  – eine Hommage an den Frühling und seine blühende Pracht! Genießen Sie in der eleganten Atmosphäre von Schloss Dornhofen ein exquisites 4-gängiges Buffet\, begleitet von feinster Live-Musik. Lassen Sie sich von kulinarischen Köstlichkeiten verwöhnen und feiern Sie mit uns den Beginn einer neuen Saison! \nLIVE-MUSIK:\nFreuen Sie sich auf „Westwind“ – sie gehören zu den Urgesteinen des Austro-Pop.\nWas 1980 als lose Formation von musikbegeisterten jungen Weststeirern beginnt\, die gefühlvoll die Folk-Songs der 70er Jahre interpretieren\, entwickelt sich bald zu einer Band mit eigenen musikalischen Ideen. „Authentisch sind wir dann\, wenn wir in unserer steirischen Sprache singen“\, wird zu einem Credo der Musiker. \n4-GÄNGE-BUFFET:\nUnser Küchenteam hat ein Menü kreiert\, das die Frische und Leichtigkeit des Frühlings zelebriert. Freuen Sie sich auf feine Vorspeisen mit knackigem Gemüse\, aromatische Suppen\, köstliche Hauptgerichte mit saisonalen Zutaten und verführerische Desserts\, die den Frühling auf der Zunge tanzen lassen.\nBuffet von 12:00 – 15:00 Uhr \nPREISE & RESERVIERUNG:\nSichern Sie sich Ihren Platz\, um gemeinsam mit uns den Frühling in all seiner Pracht zu feiern. Die begrenzten Plätze füllen sich schnell\, daher empfehlen wir\, frühzeitig zu reservieren. \nPreis pro Person € 69\,- / Kinder von 6-12 Jahre € 29\,–\n(Preis beinhaltet: Aperitif\, 4-gängiges Buffet\, Musikbeitrag) \nReservierungen gerne unter event@schloss-dornhofen.at oder unter: +43 664 452 59 50. Der Brunch findet bei jeder Witterung statt. \nWEITER INFORMATIONEN:\nVeranstaltungen und Themen Brunch 2025 finden Sie auf unserer Website. Zusätzlich informieren wir Sie zeitnah über unsere Newsletter!\nJETZT ABONNIEREN: www.schloss-dornhofen.at/newsletter \n 
URL:https://schloss-dornhofen.at/veranstaltung/eroeffnungsbrunch2025/
LOCATION:Schloss Dornhofen\, Schlossweg 4\, 8062 Eggersdorf\, Eggersdorf bei Graz\, 8062\, Österreich
CATEGORIES:Brunch,Live-Musik
ATTACH;FMTTYPE=image/jpeg:https://schloss-dornhofen.at/wp-content/uploads/2023/11/Firefly-besteck-liegt-auf-einem-weissen-tisch-leicht-rosa-serviette-gebunden-und-mit-fruehlingsblumen-scaled.jpg
END:VEVENT
BEGIN:VEVENT
DTSTART;TZID=Europe/Berlin:20250517T180000
DTEND;TZID=Europe/Berlin:20250517T210000
DTSTAMP:20260419T214648
CREATED:20230705T062910Z
LAST-MODIFIED:20250323T122005Z
UID:17277-1747504800-1747515600@schloss-dornhofen.at
SUMMARY:SPANFERKEL GRILLABEND
DESCRIPTION:WÜRZIGER GENUSS IM MAI\n„Genießen Sie mit uns einen geschmackvollen Abend beim Spanferkel grillen“ \nAb 18 Uhr erwartet Sie ein knusprig und saftig vorbereitetes Spanferkel von unserem neuen STEINGRILLER  inkl. Beilage und Dessert. \nPREISE & RESERVIERUNG:\nPreis pro Person 39\,00 € / Kinder (6 bis 12 Jahre) € 17\,00.\nBitte um Vorreservierung unter event@schloss-dornhofen.at oder +43 664 45 25 950 \nSind Sie an weiteren Veranstaltungen oder Themen Brunch interessiert\, dann abonnieren Sie unseren Newsletter. Wir halten Sie auf dem Laufenden! \nwww.schloss-dornhofen.at/newsletter \nWir freuen uns auf Ihren Besuch!\nIhr SCHLOSS DORNHOFEN Team
URL:https://schloss-dornhofen.at/veranstaltung/spanferkel-grillen/
LOCATION:Schloss Dornhofen\, Schlossweg 4\, 8062 Eggersdorf\, Eggersdorf bei Graz\, 8062\, Österreich
CATEGORIES:Dinner-Event,Grillen,Live-Musik,Singer-Songwriter
ATTACH;FMTTYPE=image/jpeg:https://schloss-dornhofen.at/wp-content/uploads/2023/07/pig-on-the-grill-2022-04-11-15-51-48-utc-scaled.jpg
END:VEVENT
END:VCALENDAR