BEGIN:VCALENDAR
VERSION:2.0
PRODID:-//schloss-dornhofen.at - ECPv6.15.20//NONSGML v1.0//EN
CALSCALE:GREGORIAN
METHOD:PUBLISH
X-WR-CALNAME:schloss-dornhofen.at
X-ORIGINAL-URL:https://schloss-dornhofen.at
X-WR-CALDESC:Veranstaltungen für schloss-dornhofen.at
REFRESH-INTERVAL;VALUE=DURATION:PT1H
X-Robots-Tag:noindex
X-PUBLISHED-TTL:PT1H
BEGIN:VTIMEZONE
TZID:Europe/Berlin
BEGIN:DAYLIGHT
TZOFFSETFROM:+0100
TZOFFSETTO:+0200
TZNAME:CEST
DTSTART:20240331T010000
END:DAYLIGHT
BEGIN:STANDARD
TZOFFSETFROM:+0200
TZOFFSETTO:+0100
TZNAME:CET
DTSTART:20241027T010000
END:STANDARD
BEGIN:DAYLIGHT
TZOFFSETFROM:+0100
TZOFFSETTO:+0200
TZNAME:CEST
DTSTART:20250330T010000
END:DAYLIGHT
BEGIN:STANDARD
TZOFFSETFROM:+0200
TZOFFSETTO:+0100
TZNAME:CET
DTSTART:20251026T010000
END:STANDARD
BEGIN:DAYLIGHT
TZOFFSETFROM:+0100
TZOFFSETTO:+0200
TZNAME:CEST
DTSTART:20260329T010000
END:DAYLIGHT
BEGIN:STANDARD
TZOFFSETFROM:+0200
TZOFFSETTO:+0100
TZNAME:CET
DTSTART:20261025T010000
END:STANDARD
END:VTIMEZONE
BEGIN:VEVENT
DTSTART;TZID=Europe/Berlin:20250406T100000
DTEND;TZID=Europe/Berlin:20250406T180000
DTSTAMP:20260419T232530
CREATED:20250209T143648Z
LAST-MODIFIED:20250319T175659Z
UID:17731-1743933600-1743962400@schloss-dornhofen.at
SUMMARY:OSTERMARKT 2025
DESCRIPTION:KUNST – HANDWERK – KULINARIK –\n\n\nAm SAMSTAG von 13 – 18 Uhr &  SONNTAG von 10 – 18 Uhr erwecken wir nach dem wohlverdienten Winterschlaf das Schloss Dornhofen an diesem Wochenende wieder mit wunderbaren österlichen Deko-Elementen\, Schmuckstücken aus Glas oder Edelstein\, Schreibutensilien\, Naturseifen\, Naturkosmetik\, feinste Delikatessen uvm. \nUnd das alles bei freiem Eintritt! \nBei unserem Ostermarkt zeigt sich der Frühling von der schönsten & buntesten Seite während wir Sie kulinarisch in unserem Schlossrestaurant verwöhnen. Öffnungszeiten Restaurant Samstag & Sonntag von 11 – 18 Uhr. (Küche von 11 – 16 Uhr) Reservierungen nehmen wir gerne unter event@schloss-dornhofen.at entgegen. \nEin besonderes Erlebnis für Groß und Klein! Wir freuen uns auf einen wundervollen Tag mit altbewährten und neuen kreativen Ausstellern! \nWEITERE INFORMATIONEN:\nVeranstaltungen und Themen Brunch 2025 finden Sie auf unserer Website. Zusätzlich informieren wir Sie zeitnah über unseren Newsletter!\nJETZT ABONNIEREN: www.schloss-dornhofen.at/newsletter \nIhr Schloss Dornhofen Team
URL:https://schloss-dornhofen.at/veranstaltung/ostermarkt-2025-2/
LOCATION:Schloss Dornhofen\, Schlossweg 4\, 8062 Eggersdorf\, Eggersdorf bei Graz\, 8062\, Österreich
CATEGORIES:Markt
ATTACH;FMTTYPE=image/jpeg:https://schloss-dornhofen.at/wp-content/uploads/2024/01/AdobeStock_142066126-scaled.jpeg
END:VEVENT
BEGIN:VEVENT
DTSTART;TZID=Europe/Berlin:20250425T180000
DTEND;TZID=Europe/Berlin:20250425T210000
DTSTAMP:20260419T232530
CREATED:20230201T104941Z
LAST-MODIFIED:20250403T102408Z
UID:17191-1745604000-1745614800@schloss-dornhofen.at
SUMMARY:FISCHABEND
DESCRIPTION:FISCHABEND\n\nWillkommen zu unserem Fischabend von Schloss Dornhofen. Lassen Sie sich von einer exquisiten Auswahl an Fisch- und Meeresfrüchtespezialitäten verwöhnen.\nNatürlich kommen aber auch unsere Fleischesser auf Ihre Kosten mit zusätzlichen kulinarischen Leckereien. \n4-GÄNGE BUFFET\nUnser Küchenteam hat für Sie ein vielfältiges Buffet zusammengestellt\, das Fischliebhaber begeistert. Freuen Sie sich auf klassische Kreationen mit regionalem und internationalem Fisch sowie köstliche Beilagen und hausgemachte Desserts.\nBuffet von 18:00 – 21:00 Uhr \nPREISE & RESERVIERUNG:\nSichern Sie sich Ihren Platz für diesen genussvollen Abend! \nPreis pro Person € 65\,-\n(Preis beinhaltet einen Aperitiv und das exklusive Fischbuffet) \nReservierungen gerne unter event@schloss-dornhofen.at oder unter: +43 664 452 59 50. \nDer Fischabend findet bei jeder Witterung statt. \nWEITERE INFORMATIONEN:\nMehr Veranstaltungen & Themenabende finden Sie auf unserer Website – oder abonnieren Sie unseren Newsletter! \nJETZT ABONNIEREN: www.schloss-dornhofen.at/newsletter \n 
URL:https://schloss-dornhofen.at/veranstaltung/fischabend2025/
LOCATION:Schloss Dornhofen\, Schlossweg 4\, 8062 Eggersdorf\, Eggersdorf bei Graz\, 8062\, Österreich
CATEGORIES:Dinner-Event,Grillen
ATTACH;FMTTYPE=image/jpeg:https://schloss-dornhofen.at/wp-content/uploads/2023/02/AdobeStock_288485044-scaled.jpeg
END:VEVENT
END:VCALENDAR