BEGIN:VCALENDAR
VERSION:2.0
PRODID:-//schloss-dornhofen.at - ECPv6.15.20//NONSGML v1.0//EN
CALSCALE:GREGORIAN
METHOD:PUBLISH
X-ORIGINAL-URL:https://schloss-dornhofen.at
X-WR-CALDESC:Veranstaltungen für schloss-dornhofen.at
REFRESH-INTERVAL;VALUE=DURATION:PT1H
X-Robots-Tag:noindex
X-PUBLISHED-TTL:PT1H
BEGIN:VTIMEZONE
TZID:Europe/Berlin
BEGIN:DAYLIGHT
TZOFFSETFROM:+0100
TZOFFSETTO:+0200
TZNAME:CEST
DTSTART:20230326T010000
END:DAYLIGHT
BEGIN:STANDARD
TZOFFSETFROM:+0200
TZOFFSETTO:+0100
TZNAME:CET
DTSTART:20231029T010000
END:STANDARD
BEGIN:DAYLIGHT
TZOFFSETFROM:+0100
TZOFFSETTO:+0200
TZNAME:CEST
DTSTART:20240331T010000
END:DAYLIGHT
BEGIN:STANDARD
TZOFFSETFROM:+0200
TZOFFSETTO:+0100
TZNAME:CET
DTSTART:20241027T010000
END:STANDARD
BEGIN:DAYLIGHT
TZOFFSETFROM:+0100
TZOFFSETTO:+0200
TZNAME:CEST
DTSTART:20250330T010000
END:DAYLIGHT
BEGIN:STANDARD
TZOFFSETFROM:+0200
TZOFFSETTO:+0100
TZNAME:CET
DTSTART:20251026T010000
END:STANDARD
END:VTIMEZONE
BEGIN:VEVENT
DTSTART;TZID=Europe/Berlin:20240908T120000
DTEND;TZID=Europe/Berlin:20240908T150000
DTSTAMP:20260422T110441
CREATED:20240215T110100Z
LAST-MODIFIED:20240215T111409Z
UID:17431-1725796800-1725807600@schloss-dornhofen.at
SUMMARY:BLUES - COUNTRY BRUNCH
DESCRIPTION:IHR BRUNCH IM  BLUES STIL!\nBereiten Sie sich darauf vor\, den Sommer mit einem Blues Country Brunch der Extraklasse zu erleben! Im September laden wir Sie zu einem musikalischen Fest und einem köstlichen 4-gängigen Buffet ein\, das Ihre Sinne verzaubern wird. \nLIVE-MUSIK:\nGenießen Sie die raue Leidenschaft des Blues und die melodische Freiheit des Country. Feinste Live Musik mit „CHRISTIAN MASSER“.\nDer Grazer Sänger und Gitarrist serviert eine unschlagbare Mischung aus Mississippi-Blues und selten gehörten Country- und Folksongs (Cash\, Kristofferson\, Dylan ect.): Lieder über Baumwollfelder und Eisenbahnen\, Geisterreiter und Knastbrüder\, über Sünder am Samstagabend und Heilige am Sonntagmorgen. \n4-GÄNGE-BUFFET:\nBeginnen Sie mit herzhaften Vorspeisen\, bevor Sie zu würzigen Hauptgerichten übergehen. Das Dessert\, süß wie der Klang einer Bluesgitarre\, rundet dieses kulinarische Erlebnis ab.\nBuffet von 12-15 Uhr \nPREISE & RESERVIERUNG:\nReservieren Sie Ihren Platz\, um sicherzustellen\, dass Sie diese außergewöhnliche Veranstaltung nicht verpassen. Die begrenzten Plätze füllen sich schnell. \nPreis pro Person € 69\,- / Kinder von 6-12 Jahre € 29\,-  (Wir behalten uns bis Februar 2024 eine Preisanpassung vor)\n(Preis beinhaltet: Aperitif\, 4-gängiges Buffet\, Musikbeitrag) \nReservierungen gerne unter event@schloss-dornhofen.at oder unter: +43 664 45 25 950. Der Brunch findet bei jeder Witterung statt. \nWEITER INFORMATIONEN:\nVerpassen Sie in diesem Jahr nicht unsere Special Events anlässlich der 400 Jahrfeier von Schloss Dornhofen. \nVeranstaltungen und Themen Brunch 2024 finden Sie auf unserer Website. Zusätzlich informieren wir Sie zeitnah über unseren Newsletter!\nJETZT ABONNIEREN: www.schloss-dornhofen.at/newsletter
URL:https://schloss-dornhofen.at/veranstaltung/blues-country-brunch-2/
LOCATION:Schlossweg 4\, 8062 Eggersdorf
CATEGORIES:Brunch,Live-Musik
ATTACH;FMTTYPE=image/jpeg:https://schloss-dornhofen.at/wp-content/uploads/2024/02/CB-BB_012024-02.jpg
END:VEVENT
END:VCALENDAR