BEGIN:VCALENDAR
VERSION:2.0
PRODID:-//schloss-dornhofen.at - ECPv6.15.20//NONSGML v1.0//EN
CALSCALE:GREGORIAN
METHOD:PUBLISH
X-ORIGINAL-URL:https://schloss-dornhofen.at
X-WR-CALDESC:Veranstaltungen für schloss-dornhofen.at
REFRESH-INTERVAL;VALUE=DURATION:PT1H
X-Robots-Tag:noindex
X-PUBLISHED-TTL:PT1H
BEGIN:VTIMEZONE
TZID:Europe/Berlin
BEGIN:DAYLIGHT
TZOFFSETFROM:+0100
TZOFFSETTO:+0200
TZNAME:CEST
DTSTART:20230326T010000
END:DAYLIGHT
BEGIN:STANDARD
TZOFFSETFROM:+0200
TZOFFSETTO:+0100
TZNAME:CET
DTSTART:20231029T010000
END:STANDARD
BEGIN:DAYLIGHT
TZOFFSETFROM:+0100
TZOFFSETTO:+0200
TZNAME:CEST
DTSTART:20240331T010000
END:DAYLIGHT
BEGIN:STANDARD
TZOFFSETFROM:+0200
TZOFFSETTO:+0100
TZNAME:CET
DTSTART:20241027T010000
END:STANDARD
BEGIN:DAYLIGHT
TZOFFSETFROM:+0100
TZOFFSETTO:+0200
TZNAME:CEST
DTSTART:20250330T010000
END:DAYLIGHT
BEGIN:STANDARD
TZOFFSETFROM:+0200
TZOFFSETTO:+0100
TZNAME:CET
DTSTART:20251026T010000
END:STANDARD
END:VTIMEZONE
BEGIN:VEVENT
DTSTART;TZID=Europe/Berlin:20240602T120000
DTEND;TZID=Europe/Berlin:20240602T150000
DTSTAMP:20260422T152112
CREATED:20240215T093553Z
LAST-MODIFIED:20240407T174251Z
UID:17419-1717329600-1717340400@schloss-dornhofen.at
SUMMARY:JAZZ BRUNCH
DESCRIPTION:Kulinarische Reise mit den Melodien des Jazz!\nWillkommen zu einem unvergesslichen Jazz Brunch mit SILVER LINING JAZZ TRIO\, der Ihre Sinne im sonnigen Monat Juni begeistern wird! Erleben Sie den perfekten Mix aus Live-Musik und einem exquisiten 4-gängigen Buffet\, während Sie den Sommer in vollen Zügen genießen. \nLIVE-MUSIK:\nTauchen Sie ein in die Welt des Jazz\, während talentierte Musiker mit ihren melodischen Klängen die Atmosphäre beleben. Den diesjährigen Jazzbrunch wird das SILVER LINING JAZZ TRIO zu einem unvergesslichen Erlebnis machen. www.silverlining-jazz.com \nDas Repertoire reicht von Jazz-und Swing-Klassikern über Soul und lateinamerikanische Musik bis hin zu ausgewählter Popmusik. Einfühlsamer\, klarer Gesang trifft auf perlende Jazzgitarrenklänge und einladend warme Kontrabasstöne. Das Silver Lining Trio hat sich dem transparenten und intimen Bandsound ohne Drums verschrieben. Mit einer jazzigen\, improvisationsfreudigen Spielweise werden ausgewählte Stücke des Jazz – und Poprepertoires bearbeitet und neu interpretiert. \n4-GÄNGE-BUFFET:\nUnsere Küchenkünstler haben ein verlockendes 4-gängiges Buffet kreiert. Beginnen Sie mit erfrischenden Vorspeisen\, bevor Sie zu herzhaften Hauptgerichten übergehen\, die mit Rhythmus und Aromen harmonieren. Die süßen Noten unserer Desserts werden das Finale eines schönen Sommertages voller Genuss sein. \nPREISE & RESERVIERUNG:\nReservieren Sie Ihren Platz\, um sicherzustellen\, dass Sie diese außergewöhnliche Veranstaltung nicht verpassen. Die begrenzten Plätze füllen sich schnell. \nPreis pro Person € 69\,- / Kinder von 6-12 Jahre € 25\,-\n(Preis beinhaltet: Aperitif\, 4-gängiges Buffet\, Musikbeitrag) \nReservierungen gerne unter event@schloss-dornhofen.at oder unter: +43 664 452 59 50. Der Brunch findet bei jeder Witterung statt. \nWEITER INFORMATIONEN:\nVerpassen Sie in diesem Jahr nicht unsere Special Events anlässlich der 400 Jahrfeier von Schloss Dornhofen. \nVeranstaltungen und Themen Brunch 2024 finden Sie auf unserer Website. Zusätzlich informieren wir Sie zeitnah über unseren Newsletter!\nJETZT ABONNIEREN: www.schloss-dornhofen.at/newsletter
URL:https://schloss-dornhofen.at/veranstaltung/jazz-brunch/
LOCATION:Schlossweg 4\, 8062 Eggersdorf
CATEGORIES:Brunch,Live-Musik
ATTACH;FMTTYPE=image/jpeg:https://schloss-dornhofen.at/wp-content/uploads/2024/02/JB-BB_012024-02.jpg
END:VEVENT
BEGIN:VEVENT
DTSTART;VALUE=DATE:20240622
DTEND;VALUE=DATE:20240623
DTSTAMP:20260422T152112
CREATED:20240215T080447Z
LAST-MODIFIED:20240620T114526Z
UID:17510-1719014400-1719100799@schloss-dornhofen.at
SUMMARY:MÄRCHEN          SCHLOSSZAUBER
DESCRIPTION:MÄRCHENSCHLOSSZAUBER  mit „MÄRCHEN AN FÄDEN“!\n400 Jahre Zauber und Geschichte am 22. & 23. Juni 2024! \nWir laden Sie herzlich zum großartigen Märchenfest mit „Märchen an Fäden“ ein! (www.maerchen-an-faeden.at) \nAnlässlich des 400-jährigen Jubiläums öffnen sich die Tore dieses historischen Juwels\, um Groß und Klein in eine märchenhafte Welt zu entführen. \nTauchen Sie ein in die Welt der Prinzen und Prinzessinnen\, Drachen und Zwerge\, Hexen und Feen – eine Reise\, die Jung und Alt gleichermaßen begeistern wird. \nÖffnungszeiten: Samstag 22.6. von 12 Uhr bis 18 Uhr und Sonntag 23.6. von 10 Uhr bis 18 Uhr \n  \nHIGHLIGHTS:\n\nMÄRCHENAUFFÜHRUNG für Groß und Klein von „MÄRCHEN AN FÄDEN“\nAufführung SAMSTAG  14 & 16 Uhr  ‚Dornröschen und Prinz Flower Power‘\nAufführung SONNTAG 11 & 15 Uhr ‚Drache Funki ist verliebt‘\nVoranmeldung erbeten\, freie Platzwahl\, Kinder  von 3-12 Jahren € 6\,- /  Erwachsene  € 8\,-.  Einlass in den Arkadenhof jeweils 1/2 Stunde vor Aufführung\n\nKINDERPROGRAMM: Für die jüngsten Besucher gibt es ein abwechslungsreiches Kinderprogramm\nFEIERLICHE VERPFLEGUNG: In der Outdoorküche wird altertümlich gekocht. \n\nWir laden Sie herzlich ein\, dieses besondere Fest mit uns zu feiern und gemeinsam die Magie der Märchenwelt im Schloss Dornhofen zu erleben. Wir freuen uns auf einen unvergesslichen Tag voller Zauber\, Freude und Geschichten.\nTischreservierungen erbeten  unter event@schloss-dornhofen.at oder unter: +43 664 45 25 950 \nWEITERE INFORMATIONEN:\nVerpassen Sie in diesem Jahr nicht unsere Special Events anlässlich der 400 Jahrfeier von Schloss Dornhofen. \nVeranstaltungen und Themen Brunch 2024 finden Sie auf unserer Website. Zusätzlich informieren wir Sie zeitnah über unseren Newsletter!\nJETZT ABONNIEREN: www.schloss-dornhofen.at/newsletter \nMit märchenhaften Grüßen \nIhr SCHLOSS DORNHOFEN Team \nUnsere Special Events sind mit der freundlichen Unterstützung von:
URL:https://schloss-dornhofen.at/veranstaltung/maerchenschlosszauber/
LOCATION:Schlossweg 4\, 8062 Eggersdorf
CATEGORIES:special-event
ATTACH;FMTTYPE=image/jpeg:https://schloss-dornhofen.at/wp-content/uploads/2024/01/Maerchenschlosszauber_wp-beitragsbild_012024.jpg
END:VEVENT
BEGIN:VEVENT
DTSTART;VALUE=DATE:20240623
DTEND;VALUE=DATE:20240624
DTSTAMP:20260422T152112
CREATED:20240409T152635Z
LAST-MODIFIED:20240620T114347Z
UID:17647-1719100800-1719187199@schloss-dornhofen.at
SUMMARY:MÄRCHEN          SCHLOSSZAUBER
DESCRIPTION:MÄRCHENSCHLOSSZAUBER  mit „MÄRCHEN AN FÄDEN“!\n400 Jahre Zauber und Geschichte am 22. & 23. Juni 2024! \nWir laden Sie herzlich zum großartigen Märchenfest mit „Märchen an Fäden“ ein! (www.maerchen-an-faeden.at) \nAnlässlich des 400-jährigen Jubiläums öffnen sich die Tore dieses historischen Juwels\, um Groß und Klein in eine märchenhafte Welt zu entführen. \nTauchen Sie ein in die Welt der Prinzen und Prinzessinnen\, Drachen und Zwerge\, Hexen und Feen – eine Reise\, die Jung und Alt gleichermaßen begeistern wird. \nÖffnungszeiten: Samstag 22.6. von 12 Uhr bis 18 Uhr und Sonntag 23.6. von 10 Uhr bis 18 Uhr \nHIGHLIGHTS:\n\nMÄRCHENAUFFÜHRUNG für Groß und Klein von „MÄRCHEN AN FÄDEN“\nAufführung SAMSTAG  14 & 16 Uhr  ‚Dornröschen und Prinz Flower Power‘\nAufführung SONNTAG 11 & 15 Uhr  ‚Drache Funki ist verliebt‘\nVoranmeldung erbeten\, freie Platzwahl\, Kinder  von 3-12 Jahren € 6\,- /  Erwachsene  € 8\,-.  Einlass in den Arkadenhof jeweils 1/2 Stunde vor Aufführung\n\nKINDERPROGRAMM: Für die jüngsten Besucher gibt es ein abwechslungsreiches Kinderprogramm\nFEIERLICHE VERPFLEGUNG: In unserer neuen Outdoorküche wir mittelalterlich gekocht.\n\nWir laden Sie herzlich ein\, dieses besondere Fest mit uns zu feiern und gemeinsam die Magie der Märchenwelt im Schloss Dornhofen zu erleben. Wir freuen uns auf einen unvergesslichen Tag voller Zauber\, Freude und Geschichten.\nReservierung für das Schloss Restaurant unter event@schloss-dornhofen.at oder unter: +43 664 45 25 950 \nWEITERE INFORMATIONEN:\nVerpassen Sie in diesem Jahr nicht unsere Special Events anlässlich der 400 Jahrfeier von Schloss Dornhofen. \nVeranstaltungen und Themen Brunch 2024 finden Sie auf unserer Website. Zusätzlich informieren wir Sie zeitnah über unseren Newsletter!\nJETZT ABONNIEREN: www.schloss-dornhofen.at/newsletter \nMit märchenhaften Grüßen \nIhr SCHLOSS DORNHOFEN Team \nUnsere Special Events sind mit der freundlichen Unterstützung von:
URL:https://schloss-dornhofen.at/veranstaltung/maerchen-schlosszauber/
LOCATION:Schlossweg 4\, 8062 Eggersdorf
CATEGORIES:special-event
ATTACH;FMTTYPE=image/jpeg:https://schloss-dornhofen.at/wp-content/uploads/2024/01/Maerchenschlosszauber_wp-beitragsbild_012024.jpg
END:VEVENT
BEGIN:VEVENT
DTSTART;TZID=Europe/Berlin:20240629T190000
DTEND;TZID=Europe/Berlin:20240629T220000
DTSTAMP:20260422T152112
CREATED:20240527T155605Z
LAST-MODIFIED:20240527T181028Z
UID:17146-1719687600-1719698400@schloss-dornhofen.at
SUMMARY:FISCHABEND mit LESUNG & MUSIK
DESCRIPTION:GENUSS – KULTUR & MUSIK\n„Tauchen Sie ein in einen einzigartigen Abend im Juni!“ \nWir laden Sie herzlich zu unserem Fischabend mit Lesung und Musik ein\, eine feine Mischung aus kulinarischem Genuss und kultureller Unterhaltung. \nLIVE-MUSIK:\nEin Konzert der besonderen Art: Die Band Wagersfeld bringt ihre ganz eigene Interpretation des Albums NEBRASKA von BRUCE SPRINGSTEEN ! \nDie 10 Songs sind dabei ähnlich karg instrumentiert wie das Original\, und doch anders\, eigenständig. \nAber damit nicht genug\, haben die drei Steirer — Gitarrist und Sänger Franz Vetter\, Kontrabassist Alfred Valta und Autor Bernhard Valta — die Geschichten in die Steiermark verlegt\, und so hört man vom Gebrauchtwagenkauf\, von der Schlägerei im Rotlichtviertel\, einer Fahrt mit der Puch Monza von Radkersburg nach Liezen u.s.w. \nText- und Musikperformance sind von der US-Kultur inspiriert. \n4-GÄNGE-BUFFET:\nUnser Grillmeister verwöhnt Ihren Gaumen mit köstlichen Grillspezialitäten vom Fisch direkt aus der Outdoor-Küche. Seien Sie dabei und genießen Sie einen Abend voller Kultur und Kulinarik! Beginnen Sie mit erfrischenden Vorspeisen\, entdecken Sie köstliche Hauptgerichte und die süßen Versuchungen unserer Desserts. \nBuffet von 19 – 21:30 Uhr\nDessert Buffet ab 20:30 Uhr\n \nPREISE & RESERVIERUNG:\nReservieren Sie Ihren Platz\, um sicherzustellen\, dass Sie diese außergewöhnliche Veranstaltung nicht verpassen. Die begrenzten Plätze füllen sich schnell. \nReservierungen gerne unter event@schloss-dornhofen.at\nPreis pro Person 69 € / Kinder von 6-14 Jahre  25 €  (inklusive Aperitif und reichhaltiges Essen vom Buffet und Musikbeitrag) \nDas Event findet bei jeder Witterung statt \nWEITER INFORMATIONEN:\nVerpassen Sie in diesem Jahr nicht unsere Special Events anlässlich der 400 Jahrfeier von Schloss Dornhofen. \nVeranstaltungen und Themen Brunch 2024 finden Sie auf unserer Website. Zusätzlich informieren wir Sie zeitnah über unseren Newsletter!\nJETZT ABONNIEREN: www.schloss-dornhofen.at/newsletter
URL:https://schloss-dornhofen.at/veranstaltung/fischabend-mit-lesung-musik/
LOCATION:Schloss Dornhofen\, Schlossweg 4\, 8062 Eggersdorf\, Eggersdorf bei Graz\, 8062\, Österreich
CATEGORIES:Dinner-Event,Grillen,Lesung,Live-Musik,special-event
ATTACH;FMTTYPE=image/jpeg:https://schloss-dornhofen.at/wp-content/uploads/2023/01/WhatsApp-Image-2023-01-25-at-09.40.29-1.jpg
END:VEVENT
END:VCALENDAR