BEGIN:VCALENDAR
VERSION:2.0
PRODID:-//schloss-dornhofen.at - ECPv6.15.20//NONSGML v1.0//EN
CALSCALE:GREGORIAN
METHOD:PUBLISH
X-ORIGINAL-URL:https://schloss-dornhofen.at
X-WR-CALDESC:Veranstaltungen für schloss-dornhofen.at
REFRESH-INTERVAL;VALUE=DURATION:PT1H
X-Robots-Tag:noindex
X-PUBLISHED-TTL:PT1H
BEGIN:VTIMEZONE
TZID:Europe/Berlin
BEGIN:DAYLIGHT
TZOFFSETFROM:+0100
TZOFFSETTO:+0200
TZNAME:CEST
DTSTART:20220327T010000
END:DAYLIGHT
BEGIN:STANDARD
TZOFFSETFROM:+0200
TZOFFSETTO:+0100
TZNAME:CET
DTSTART:20221030T010000
END:STANDARD
BEGIN:DAYLIGHT
TZOFFSETFROM:+0100
TZOFFSETTO:+0200
TZNAME:CEST
DTSTART:20230326T010000
END:DAYLIGHT
BEGIN:STANDARD
TZOFFSETFROM:+0200
TZOFFSETTO:+0100
TZNAME:CET
DTSTART:20231029T010000
END:STANDARD
BEGIN:DAYLIGHT
TZOFFSETFROM:+0100
TZOFFSETTO:+0200
TZNAME:CEST
DTSTART:20240331T010000
END:DAYLIGHT
BEGIN:STANDARD
TZOFFSETFROM:+0200
TZOFFSETTO:+0100
TZNAME:CET
DTSTART:20241027T010000
END:STANDARD
END:VTIMEZONE
BEGIN:VEVENT
DTSTART;TZID=Europe/Berlin:20230813T120000
DTEND;TZID=Europe/Berlin:20230813T150000
DTSTAMP:20260423T074114
CREATED:20230425T073317Z
LAST-MODIFIED:20230425T073833Z
UID:17241-1691928000-1691938800@schloss-dornhofen.at
SUMMARY:Jazz Brunch im Schloss
DESCRIPTION:„Jazzgenuss der Extraklasse“ \nErleben Sie im Ambiente des Schloss Dornhofen unseren traditionellen Jazz-Brunch mit einem vielfältigen Buffet und Jazz – Latin – Soul Musik von \nFirst Take feat. Tanja Filipovic  (Tanja Filipovic – Gesang\, Kurt Haider – Gitarre\, Tobias Melcher – Kontrabass\, Chris Zangl – Schlagzeug) \nEs erwartet Sie ein Glas Prosecco als Begrüßungsgetränk und ein reichhaltiges Vorspeisen- Hauptspeisen- und Dessertbuffet. \nReservierungen gerne unter event@schloss-dornhofen.at oder +43 664 452 59 50 \n💳 Preis pro Person 59 € / Kinder von 6-14 Jahre  21€ (inklusive Aperitif und 4 gängiges Buffet) \n☔ Der Brunch findet bei jeder Witterung statt. \nSind Sie an weiteren Veranstaltungen oder Themen Brunch interessiert\, dann abonnieren Sie unseren Newsletter. Wir halten Sie auf dem Laufenden! \nwww.schloss-dornhofen.at/newsletter
URL:https://schloss-dornhofen.at/veranstaltung/jazz-brunch-im-schloss/
LOCATION:Schloss Dornhofen\, Schlossweg 4\, 8062 Eggersdorf\, Eggersdorf bei Graz\, 8062\, Österreich
CATEGORIES:Brunch,Live-Musik
ATTACH;FMTTYPE=image/jpeg:https://schloss-dornhofen.at/wp-content/uploads/2023/04/IMG-20230403-WA0003-3.jpg
END:VEVENT
BEGIN:VEVENT
DTSTART;VALUE=DATE:20230821
DTEND;VALUE=DATE:20230826
DTSTAMP:20260423T074114
CREATED:20230717T084404Z
LAST-MODIFIED:20230826T053205Z
UID:17293-1692576000-1693007999@schloss-dornhofen.at
SUMMARY:Englisch Sommer Camp
DESCRIPTION:SPRACHEN LEICHT GEMACHT mit der Birkenbihl Methode im Schloss Dornhofen! \nUnter der Campleitung von Frau Anita Schwarhofer veranstaltet Outdoor-Hof in unserem Schloss ein Camp bei diesem Englisch gehirngerecht erlernt und perfektioniert wird. Sprache intuitiv erfassen ohne stures Paucken! \nFür Kids & Teens von ca. 10 – 18 Jahren\, Anfänger sowie Fortgeschrittene! \nDATUM: 21. August bis 1. September 2023 (eine Woche oder zwei Wochen buchbar)\nPREIS: 1 Woche € 490\,- / 2 Wochen € 890\,-.\n(Preise inkl. Vollpension im Schloss\, Material\, Pädagogisches Programm) \nINFOS & ANMELDUNG: +43 664 51 55 498 oder outdoor-hof@gmx.at \nSpaß & Abenteuer Garantie mit 2 Lerneinheiten pro Tag und passiv hören! Sei einen Schritt voraus!\nwww.outdoor-hof.at \nSie wollen mehr über unsere Veranstaltungen und Termine im Schloss Dornhofen informiert werden? Dann abonnieren Sie unseren Newsletter\nwww.schloss-dornhofen.at/newsletter/ \nIhr SCHLOSS DORNHOFEN Team \n 
URL:https://schloss-dornhofen.at/veranstaltung/englisch-sommer-camp/
LOCATION:Schloss Dornhofen\, Schlossweg 4\, 8062 Eggersdorf\, Eggersdorf bei Graz\, 8062\, Österreich
CATEGORIES:special-event
ATTACH;FMTTYPE=image/jpeg:https://schloss-dornhofen.at/wp-content/uploads/2023/07/woman-with-paper-do-you-speak-english.jpg
ORGANIZER;CN="Outdoor-Hof":MAILTO:outdoor-hof@gmx.at
END:VEVENT
BEGIN:VEVENT
DTSTART;TZID=Europe/Berlin:20230827T120000
DTEND;TZID=Europe/Berlin:20230827T150000
DTSTAMP:20260423T074114
CREATED:20230717T054940Z
LAST-MODIFIED:20230717T054940Z
UID:17281-1693137600-1693148400@schloss-dornhofen.at
SUMMARY:BLUES - COUNTRY BRUNCH
DESCRIPTION:BLUES COUNTRY BRUNCH im SOMMER 2023 mit LIVE MUSIK! \nGönnen Sie sich einen kulinarischen Mittag mit einem reichhaltigen Brunch Buffet und feinster Live Musik mit „Christian Masser“.\n„Der Grazer Sänger und Gitarrist serviert eine unschlagbare Mischung aus Mississippi-Blues und selten gehörten Country- und Folksongs (Cash\, Kristofferson\, Dylan ect.): Lieder über Baumwollfelder und Eisenbahnen\, Geisterreiter und Knastbrüder\, über Sünder am Samstagabend und Heilige am Sonntagmorgen.„ \nSehr gerne heißen wir Sie mit einem Begrüßungs-Aperitif willkommen und verwöhnen Sie mit unseren 4-gängigen Buffet inkl. Dessert mit süßen Köstlichkeiten! \nPreis pro Person € 59\,– Kinder von 6-12 Jahre € 21\,-\n(Preis beinhaltet. Aperitif\, 4-gängiges Buffet\, Musikbeitrag) \nWir freuen uns auf Ihren Besuch und bitten um Vorreservierung unter  event@schloss-dornhofen.at \nDer Brunch findet bei jeder Witterung statt. \nSind Sie an weiteren Veranstaltungen oder Themen Brunch interessiert\, dann abonnieren Sie unseren Newsletter. Wir halten Sie auf dem Laufenden! \nwww.schloss-dornhofen.at/newsletter
URL:https://schloss-dornhofen.at/veranstaltung/blues-country-brunch/
LOCATION:Schloss Dornhofen\, Schlossweg 4\, 8062 Eggersdorf\, Eggersdorf bei Graz\, 8062\, Österreich
CATEGORIES:Brunch,Live-Musik
ATTACH;FMTTYPE=image/jpeg:https://schloss-dornhofen.at/wp-content/uploads/2023/07/IMG_9860-2-klein.jpg
END:VEVENT
END:VCALENDAR