BEGIN:VCALENDAR
VERSION:2.0
PRODID:-//schloss-dornhofen.at - ECPv6.15.20//NONSGML v1.0//EN
CALSCALE:GREGORIAN
METHOD:PUBLISH
X-ORIGINAL-URL:https://schloss-dornhofen.at
X-WR-CALDESC:Veranstaltungen für schloss-dornhofen.at
REFRESH-INTERVAL;VALUE=DURATION:PT1H
X-Robots-Tag:noindex
X-PUBLISHED-TTL:PT1H
BEGIN:VTIMEZONE
TZID:Europe/Berlin
BEGIN:DAYLIGHT
TZOFFSETFROM:+0100
TZOFFSETTO:+0200
TZNAME:CEST
DTSTART:20220327T010000
END:DAYLIGHT
BEGIN:STANDARD
TZOFFSETFROM:+0200
TZOFFSETTO:+0100
TZNAME:CET
DTSTART:20221030T010000
END:STANDARD
BEGIN:DAYLIGHT
TZOFFSETFROM:+0100
TZOFFSETTO:+0200
TZNAME:CEST
DTSTART:20230326T010000
END:DAYLIGHT
BEGIN:STANDARD
TZOFFSETFROM:+0200
TZOFFSETTO:+0100
TZNAME:CET
DTSTART:20231029T010000
END:STANDARD
BEGIN:DAYLIGHT
TZOFFSETFROM:+0100
TZOFFSETTO:+0200
TZNAME:CEST
DTSTART:20240331T010000
END:DAYLIGHT
BEGIN:STANDARD
TZOFFSETFROM:+0200
TZOFFSETTO:+0100
TZNAME:CET
DTSTART:20241027T010000
END:STANDARD
END:VTIMEZONE
BEGIN:VEVENT
DTSTART;TZID=Europe/Berlin:20230611T120000
DTEND;TZID=Europe/Berlin:20230611T150000
DTSTAMP:20260423T105302
CREATED:20230306T141100Z
LAST-MODIFIED:20230425T073746Z
UID:17206-1686484800-1686495600@schloss-dornhofen.at
SUMMARY:Vatertagsbrunch
DESCRIPTION:„Der besondere Tag für alle Väter“ \nZu Ehren Eurer Väter verwöhnen wir die ganze Familie mit kulinarischen Leckereien\, die Männerherzen höher schlagen lassen. Es erwartet Sie ein umfangreiches 4-gängiges Buffet mit süßen Verführungen am Dessert-Buffet von 12-15 Uhr. \nIn familiärer Atmosphäre genießen Sie dabei musikalische Unterhaltung LIVE mit  „Roman and the road“  www.romanandtheroad.com \nPreis pro Person € 59\,– Kinder von 6-12 Jahre € 21\,-\n(Preis beinhaltet: Aperitif\, 4-gängiges Buffet\, Musikbeitrag) \nReservierungen nehmen wir gerne unter event@schloss-dornhofen.at entgegen \nMöchten Sie keine Neuigkeit verpassen und über unsere Veranstaltungen und Themen Brunch informiert werden? Melden Sie sich bei unserem Newsletter an. \nwww.schloss-dornhofen.at/newsletter \nNatürlich finden die Brunch Termine mit dem zu dem Zeitpunkt der Veranstaltung geltenden Corona Auflagen der Regierung statt! \nDer Brunch findet bei jeder Witterung statt.
URL:https://schloss-dornhofen.at/veranstaltung/vatertagsbrunch/
LOCATION:Schloss Dornhofen\, Schlossweg 4\, 8062 Eggersdorf\, Eggersdorf bei Graz\, 8062\, Österreich
CATEGORIES:Brunch,Live-Musik
ATTACH;FMTTYPE=image/jpeg:https://schloss-dornhofen.at/wp-content/uploads/2023/03/close-up-of-fathers-day-gift-2022-06-28-00-58-56-utc-scaled.jpg
END:VEVENT
BEGIN:VEVENT
DTSTART;TZID=Europe/Berlin:20230618T120000
DTEND;TZID=Europe/Berlin:20230618T150000
DTSTAMP:20260423T105302
CREATED:20230306T141211Z
LAST-MODIFIED:20240527T175619Z
UID:17210-1687089600-1687100400@schloss-dornhofen.at
SUMMARY:Griechischer Brunch
DESCRIPTION:KALISPERA STO KASTRO wenn es wieder heißt: Guten Tag im Schloss beim griechischen Brunch mit reichhaltigen Spezialitäten wie\nSouvlakis\, Moussaka\, Tsatsiki\, Baklava und vieles mehr. \nPreis pro Person € 59\,00 (4 Gänge Buffet inkl. Aperitif) Kinder von 6-12Jahre € 21\,00 \nUnser Brunch findet von 12-15 Uhr statt und bietet für einen stimmungsvollen griechischen Flair LIVE MUSIK mit Sarantis Mantzourakis \nReservierungen nehmen wir gerne unter office@schloss-dornhofen.at entgegen. \nNatürlich finden die Brunch Termine mit dem zu dem Zeitpunkt der Veranstaltung\ngeltenden Corona Auflagen der Regierung statt! \nDer Brunch findet bei jeder Witterung statt.
URL:https://schloss-dornhofen.at/veranstaltung/griechischer-brunch-2/
LOCATION:Schloss Dornhofen\, Schlossweg 4\, 8062 Eggersdorf\, Eggersdorf bei Graz\, 8062\, Österreich
CATEGORIES:Brunch,Live-Musik
ATTACH;FMTTYPE=image/jpeg:https://schloss-dornhofen.at/wp-content/uploads/2022/02/orig7.jpg
END:VEVENT
END:VCALENDAR