BEGIN:VCALENDAR
VERSION:2.0
PRODID:-//schloss-dornhofen.at - ECPv6.15.20//NONSGML v1.0//EN
CALSCALE:GREGORIAN
METHOD:PUBLISH
X-ORIGINAL-URL:https://schloss-dornhofen.at
X-WR-CALDESC:Veranstaltungen für schloss-dornhofen.at
REFRESH-INTERVAL;VALUE=DURATION:PT1H
X-Robots-Tag:noindex
X-PUBLISHED-TTL:PT1H
BEGIN:VTIMEZONE
TZID:Europe/Berlin
BEGIN:DAYLIGHT
TZOFFSETFROM:+0100
TZOFFSETTO:+0200
TZNAME:CEST
DTSTART:20210328T010000
END:DAYLIGHT
BEGIN:STANDARD
TZOFFSETFROM:+0200
TZOFFSETTO:+0100
TZNAME:CET
DTSTART:20211031T010000
END:STANDARD
BEGIN:DAYLIGHT
TZOFFSETFROM:+0100
TZOFFSETTO:+0200
TZNAME:CEST
DTSTART:20220327T010000
END:DAYLIGHT
BEGIN:STANDARD
TZOFFSETFROM:+0200
TZOFFSETTO:+0100
TZNAME:CET
DTSTART:20221030T010000
END:STANDARD
BEGIN:DAYLIGHT
TZOFFSETFROM:+0100
TZOFFSETTO:+0200
TZNAME:CEST
DTSTART:20230326T010000
END:DAYLIGHT
BEGIN:STANDARD
TZOFFSETFROM:+0200
TZOFFSETTO:+0100
TZNAME:CET
DTSTART:20231029T010000
END:STANDARD
END:VTIMEZONE
BEGIN:VEVENT
DTSTART;TZID=Europe/Berlin:20220904T120000
DTEND;TZID=Europe/Berlin:20220904T150000
DTSTAMP:20260424T005600
CREATED:20220709T214753Z
LAST-MODIFIED:20220811T113810Z
UID:17124-1662292800-1662303600@schloss-dornhofen.at
SUMMARY:Jazz Brunch mit "Das Trio"
DESCRIPTION:Karl Stamey\, Roland Wesp und Ewald Oberleitner – 3 hochkarätige Jazzmusiker vereinen sich zu „Das Trio“. \nEin Jazzgenuss der Extraklasse. \nEs erwartet Sie ein Glas Prosecco als Begrüßungsgetränk. \nEin reichhaltiges Vorspeisen- Hauptspeisen- und Dessertbuffet wird Sie auch kulinarisch verzaubern. \nReservierungen gerne unter event@schloss-dornhofen.at\n💳 Preis pro Person 59 € / Kinder von 6-14 Jahre  21€ (inklusive Aperitif und 4 gängiges reichhaltiges Essen vom Buffet) \n🦠 Natürlich finden die Brunch Termine mit dem zu dem Zeitpunkt der Veranstaltung geltenden Corona Auflagen der Regierung statt! \n☔ Der Brunch findet bei jeder Witterung statt.
URL:https://schloss-dornhofen.at/veranstaltung/jazz-brunch-mit-das-trio/
LOCATION:Schloss Dornhofen\, Schlossweg 4\, 8062 Eggersdorf\, Eggersdorf bei Graz\, 8062\, Österreich
CATEGORIES:Brunch
ATTACH;FMTTYPE=image/jpeg:https://schloss-dornhofen.at/wp-content/uploads/2019/02/dastrio-1.jpg
END:VEVENT
BEGIN:VEVENT
DTSTART;TZID=Europe/Berlin:20220911T120000
DTEND;TZID=Europe/Berlin:20220911T150000
DTSTAMP:20260424T005600
CREATED:20190125T150928Z
LAST-MODIFIED:20220709T213059Z
UID:15280-1662897600-1662908400@schloss-dornhofen.at
SUMMARY:Kuba Brunch mit Silvio Gabriel
DESCRIPTION:Endlich ist es wieder soweit: \nBrunch mit Silvio aus Kuba und seiner Band Cuba Libre. \nFrohsinn\, das Gespür für Kreativität\, Lebensfreude\, Heiterkeit und Leidenschaft liegen dieser Musik zu Grunde. \nSilvio bringt mit seiner Band richtig Schwung und Stimmung ins Schloss Dornhofen. \nNatürlich kommt auch der kulinarische Genuss nicht zu kurz. \nAls Aperitif gibt es einen Pina Colada. \nRopa Vieja\, verschiedenste Paellas\, Fisch\, Huhn und vieles mehr gibt es auf unserem reichhaltigen Buffet. \nReservierungen gerne unter event@schloss-dornhofen.at\n💳 Preis pro Person 65 € / Kinder von 6-14 Jahre  25€ (inklusive Aperitif und 4 gängiges reichhaltiges Essen vom Buffet) \n🦠 Natürlich finden die Brunch Termine mit dem zu dem Zeitpunkt der Veranstaltung geltenden Corona Auflagen der Regierung statt! \n☔ Der Brunch findet bei jeder Witterung statt. \n  \n 
URL:https://schloss-dornhofen.at/veranstaltung/cuba-brunch-mit-silvio/
LOCATION:Schloss Dornhofen\, Schlossweg 4\, 8062 Eggersdorf\, Eggersdorf bei Graz\, 8062\, Österreich
CATEGORIES:Brunch,Live-Musik,World Music
ATTACH;FMTTYPE=image/png:https://schloss-dornhofen.at/wp-content/uploads/2019/01/silv-1.png
END:VEVENT
END:VCALENDAR