BEGIN:VCALENDAR
VERSION:2.0
PRODID:-//schloss-dornhofen.at - ECPv6.15.20//NONSGML v1.0//EN
CALSCALE:GREGORIAN
METHOD:PUBLISH
X-WR-CALNAME:schloss-dornhofen.at
X-ORIGINAL-URL:https://schloss-dornhofen.at
X-WR-CALDESC:Veranstaltungen für schloss-dornhofen.at
REFRESH-INTERVAL;VALUE=DURATION:PT1H
X-Robots-Tag:noindex
X-PUBLISHED-TTL:PT1H
BEGIN:VTIMEZONE
TZID:Europe/Berlin
BEGIN:DAYLIGHT
TZOFFSETFROM:+0100
TZOFFSETTO:+0200
TZNAME:CEST
DTSTART:20210328T010000
END:DAYLIGHT
BEGIN:STANDARD
TZOFFSETFROM:+0200
TZOFFSETTO:+0100
TZNAME:CET
DTSTART:20211031T010000
END:STANDARD
BEGIN:DAYLIGHT
TZOFFSETFROM:+0100
TZOFFSETTO:+0200
TZNAME:CEST
DTSTART:20220327T010000
END:DAYLIGHT
BEGIN:STANDARD
TZOFFSETFROM:+0200
TZOFFSETTO:+0100
TZNAME:CET
DTSTART:20221030T010000
END:STANDARD
BEGIN:DAYLIGHT
TZOFFSETFROM:+0100
TZOFFSETTO:+0200
TZNAME:CEST
DTSTART:20230326T010000
END:DAYLIGHT
BEGIN:STANDARD
TZOFFSETFROM:+0200
TZOFFSETTO:+0100
TZNAME:CET
DTSTART:20231029T010000
END:STANDARD
END:VTIMEZONE
BEGIN:VEVENT
DTSTART;TZID=Europe/Berlin:20220612T120000
DTEND;TZID=Europe/Berlin:20220612T150000
DTSTAMP:20260424T053005
CREATED:20220215T104200Z
LAST-MODIFIED:20220419T202026Z
UID:16975-1655035200-1655046000@schloss-dornhofen.at
SUMMARY:Vatertagsbrunch mit Livemusik von Roman and the Road
DESCRIPTION:Zum Vatertag werfen wir wieder die Griller an\, vom Steak bis zum Burger oder Ripperl. \nFür die Junior´s gibt es Würstel zum selber Grillen. \nFrisches Murauer Bier dürfen unsere Papas zur Feier des Tags selber zapfen. \n„Roman and the Road“ wird diesen Brunch musikalisch umrahmen. \nReservierungen nehmen wir gerne unter office@schloss-dornhofen.at entgegen.\nPreis pro Person € 59\,00 Kinder von 6-14Jahre 21\,-€ inklusive Aperitif\, reichhaltiges 4-gängiges Buffet \nUnser Brunch findet von 12-15 Uhr statt. \nNatürlich finden die Brunch Termine mit dem zu dem Zeitpunkt der Veranstaltung\ngeltenden Corona Auflagen der Regierung statt! \nDer Brunch findet bei jeder Witterung statt.
URL:https://schloss-dornhofen.at/veranstaltung/vatertagsbrunch-mit-live-musik/
LOCATION:Schlossweg 4\, 8062 Eggersdorf
CATEGORIES:Brunch,Live-Musik,Singer-Songwriter
ATTACH;FMTTYPE=image/jpeg:https://schloss-dornhofen.at/wp-content/uploads/2022/02/242065106_825788937995557_7349586876354110240_n.jpg
END:VEVENT
END:VCALENDAR