BEGIN:VCALENDAR
VERSION:2.0
PRODID:-//schloss-dornhofen.at - ECPv6.15.20//NONSGML v1.0//EN
CALSCALE:GREGORIAN
METHOD:PUBLISH
X-ORIGINAL-URL:https://schloss-dornhofen.at
X-WR-CALDESC:Veranstaltungen für schloss-dornhofen.at
REFRESH-INTERVAL;VALUE=DURATION:PT1H
X-Robots-Tag:noindex
X-PUBLISHED-TTL:PT1H
BEGIN:VTIMEZONE
TZID:Europe/Berlin
BEGIN:DAYLIGHT
TZOFFSETFROM:+0100
TZOFFSETTO:+0200
TZNAME:CEST
DTSTART:20210328T010000
END:DAYLIGHT
BEGIN:STANDARD
TZOFFSETFROM:+0200
TZOFFSETTO:+0100
TZNAME:CET
DTSTART:20211031T010000
END:STANDARD
BEGIN:DAYLIGHT
TZOFFSETFROM:+0100
TZOFFSETTO:+0200
TZNAME:CEST
DTSTART:20220327T010000
END:DAYLIGHT
BEGIN:STANDARD
TZOFFSETFROM:+0200
TZOFFSETTO:+0100
TZNAME:CET
DTSTART:20221030T010000
END:STANDARD
BEGIN:DAYLIGHT
TZOFFSETFROM:+0100
TZOFFSETTO:+0200
TZNAME:CEST
DTSTART:20230326T010000
END:DAYLIGHT
BEGIN:STANDARD
TZOFFSETFROM:+0200
TZOFFSETTO:+0100
TZNAME:CET
DTSTART:20231029T010000
END:STANDARD
END:VTIMEZONE
BEGIN:VEVENT
DTSTART;TZID=Europe/Berlin:20220508T120000
DTEND;TZID=Europe/Berlin:20220508T150000
DTSTAMP:20260424T070002
CREATED:20220215T100202Z
LAST-MODIFIED:20220419T195058Z
UID:16971-1652011200-1652022000@schloss-dornhofen.at
SUMMARY:Muttertagsbrunch
DESCRIPTION:Hoch sollen sie leben\, unsere Mamas!\nWir haben extra für euch super leckere Gerichte vorbereitet. \nFrischer Spargel\, Front-cooking-Station mit gegrilltem Fisch\, und vieles mehr.\nEin Zauberhaftes Dessert-Buffet\, runden unseren Muttertags Brunch ab. \nReservierungen nehmen wir gerne unter office@schloss-dornhofen.at entgegen\nPreis pro Person € 55\,00 Kinder von 6-14Jahre 19\,-€ inklusive Aperitif\, Reichhaltiges 4 gängiges Buffet. \nUnser Brunch findet von 12-15 Uhr statt.\nKeine Live Musik. \nNatürlich finden die Brunch Termine mit dem zu dem Zeitpunkt der Veranstaltung geltenden Corona Auflagen der Regierung statt! \nDer Brunch findet bei jeder Witterung statt.
URL:https://schloss-dornhofen.at/veranstaltung/muttertags-brunch/
LOCATION:Schloss Dornhofen\, Schlossweg 4\, 8062 Eggersdorf\, Eggersdorf bei Graz\, 8062\, Österreich
CATEGORIES:Brunch
ATTACH;FMTTYPE=image/jpeg:https://schloss-dornhofen.at/wp-content/uploads/2019/02/muttertag-e1549283915372-1.jpg
END:VEVENT
END:VCALENDAR