BEGIN:VCALENDAR
VERSION:2.0
PRODID:-//schloss-dornhofen.at - ECPv6.15.20//NONSGML v1.0//EN
CALSCALE:GREGORIAN
METHOD:PUBLISH
X-WR-CALNAME:schloss-dornhofen.at
X-ORIGINAL-URL:https://schloss-dornhofen.at
X-WR-CALDESC:Veranstaltungen für schloss-dornhofen.at
REFRESH-INTERVAL;VALUE=DURATION:PT1H
X-Robots-Tag:noindex
X-PUBLISHED-TTL:PT1H
BEGIN:VTIMEZONE
TZID:Europe/Berlin
BEGIN:DAYLIGHT
TZOFFSETFROM:+0100
TZOFFSETTO:+0200
TZNAME:CEST
DTSTART:20210328T010000
END:DAYLIGHT
BEGIN:STANDARD
TZOFFSETFROM:+0200
TZOFFSETTO:+0100
TZNAME:CET
DTSTART:20211031T010000
END:STANDARD
BEGIN:DAYLIGHT
TZOFFSETFROM:+0100
TZOFFSETTO:+0200
TZNAME:CEST
DTSTART:20220327T010000
END:DAYLIGHT
BEGIN:STANDARD
TZOFFSETFROM:+0200
TZOFFSETTO:+0100
TZNAME:CET
DTSTART:20221030T010000
END:STANDARD
BEGIN:DAYLIGHT
TZOFFSETFROM:+0100
TZOFFSETTO:+0200
TZNAME:CEST
DTSTART:20230326T010000
END:DAYLIGHT
BEGIN:STANDARD
TZOFFSETFROM:+0200
TZOFFSETTO:+0100
TZNAME:CET
DTSTART:20231029T010000
END:STANDARD
END:VTIMEZONE
BEGIN:VEVENT
DTSTART;TZID=Europe/Berlin:20220402T130000
DTEND;TZID=Europe/Berlin:20220402T180000
DTSTAMP:20260424T082622
CREATED:20220215T113557Z
LAST-MODIFIED:20220310T144336Z
UID:16985-1648904400-1648922400@schloss-dornhofen.at
SUMMARY:Ostermarkt (Tag 1)
DESCRIPTION:Samstag 2. April von 13-18 Uhr\nSonntag 3. April von 10-18 Uhr \nKunst\, Handwerk\, Kulinarik…\n…lassen Ihr Herz höher schlagen\, nach dem wohlverdienten Winterschlaf erwecken wir Schloss Dornhofen an diesem Wochenende mit wunderbaren österlichen Deko-Elementen\, Schmuckstücken aus Glas oder Edelstein\, Schreibutensilien\, Naturseifen\,\nNaturkosmetik\, feinste Delikatessen uvm. \nMusikalische Umrahmung vom Singkreis Laßnitzthal. \nEintritt frei! \nFür unsere kleinen Gäste gibt es Eier zum selber anmalen.
URL:https://schloss-dornhofen.at/veranstaltung/ostermarkt/
LOCATION:Schloss Dornhofen\, Schlossweg 4\, 8062 Eggersdorf\, Eggersdorf bei Graz\, 8062\, Österreich
CATEGORIES:Markt
ATTACH;FMTTYPE=image/png:https://schloss-dornhofen.at/wp-content/uploads/2022/02/Ostermarkt22.png
END:VEVENT
BEGIN:VEVENT
DTSTART;TZID=Europe/Berlin:20220403T100000
DTEND;TZID=Europe/Berlin:20220403T180000
DTSTAMP:20260424T082622
CREATED:20220310T143935Z
LAST-MODIFIED:20220310T143935Z
UID:17083-1648980000-1649008800@schloss-dornhofen.at
SUMMARY:Ostermarkt (Tag 2)
DESCRIPTION:Samstag 2. April von 13-18 Uhr\nSonntag 3. April von 10-18 Uhr \nKunst\, Handwerk\, Kulinarik…\n…lassen Ihr Herz höher schlagen\, nach dem wohlverdienten Winterschlaf erwecken wir Schloss Dornhofen an diesem Wochenende mit wunderbaren österlichen Deko-Elementen\, Schmuckstücken aus Glas oder Edelstein\, Schreibutensilien\, Naturseifen\,\nNaturkosmetik\, feinste Delikatessen uvm. \nMusikalische Umrahmung vom Singkreis Laßnitzthal. \nEintritt frei! \nFür unsere kleinen Gäste gibt es Eier zum selber anmalen.
URL:https://schloss-dornhofen.at/veranstaltung/ostermarkt-tag-2/
LOCATION:Schloss Dornhofen\, Schlossweg 4\, 8062 Eggersdorf\, Eggersdorf bei Graz\, 8062\, Österreich
ATTACH;FMTTYPE=image/png:https://schloss-dornhofen.at/wp-content/uploads/2022/02/Ostermarkt22.png
END:VEVENT
END:VCALENDAR