BEGIN:VCALENDAR
VERSION:2.0
PRODID:-//schloss-dornhofen.at - ECPv6.15.20//NONSGML v1.0//EN
CALSCALE:GREGORIAN
METHOD:PUBLISH
X-ORIGINAL-URL:https://schloss-dornhofen.at
X-WR-CALDESC:Veranstaltungen für schloss-dornhofen.at
REFRESH-INTERVAL;VALUE=DURATION:PT1H
X-Robots-Tag:noindex
X-PUBLISHED-TTL:PT1H
BEGIN:VTIMEZONE
TZID:Europe/Berlin
BEGIN:DAYLIGHT
TZOFFSETFROM:+0100
TZOFFSETTO:+0200
TZNAME:CEST
DTSTART:20200329T010000
END:DAYLIGHT
BEGIN:STANDARD
TZOFFSETFROM:+0200
TZOFFSETTO:+0100
TZNAME:CET
DTSTART:20201025T010000
END:STANDARD
BEGIN:DAYLIGHT
TZOFFSETFROM:+0100
TZOFFSETTO:+0200
TZNAME:CEST
DTSTART:20210328T010000
END:DAYLIGHT
BEGIN:STANDARD
TZOFFSETFROM:+0200
TZOFFSETTO:+0100
TZNAME:CET
DTSTART:20211031T010000
END:STANDARD
BEGIN:DAYLIGHT
TZOFFSETFROM:+0100
TZOFFSETTO:+0200
TZNAME:CEST
DTSTART:20220327T010000
END:DAYLIGHT
BEGIN:STANDARD
TZOFFSETFROM:+0200
TZOFFSETTO:+0100
TZNAME:CET
DTSTART:20221030T010000
END:STANDARD
END:VTIMEZONE
BEGIN:VEVENT
DTSTART;TZID=Europe/Berlin:20210829T110000
DTEND;TZID=Europe/Berlin:20210829T140000
DTSTAMP:20260424T205529
CREATED:20210724T180156Z
LAST-MODIFIED:20210823T143130Z
UID:16832-1630234800-1630245600@schloss-dornhofen.at
SUMMARY:AUSGEBUCHT: Brunch Mediterran
DESCRIPTION:Brunch „Mediterran“  am 29.August 2021 \nDas wird eine feine mediterrane 🛳Reise\, Quer durch den  🏖Mittelmeeraum\, eine Vielfalt an kulinarischen Genüssen erwartet Euch 🍽.\nVom frischen Fisch bis hin zur herzhaften Fleischgerichten\, von der Hausgemachten Pasta 🥟zum knackigem Gemüse🥦🌶🫒egal ob gebraten\, mariniert oder gegrillt.\nHeute zaubern wir für euch die Sonne 🌞ins Schloss 🏰und auf die Teller🍽 \n🎼Musikalisch werden wir  von der Gruppe Kresfritz begleitet. \n📥 Reservierungen gerne unter event@schloss-dornhofen.at\n💳 Preis pro Person 54\,-€/ Kinder von 6-14Jahre  21\,-€ inklusive Aperitif\,  Speisen\, Saftbar und Kaffee  vom Buffet)\n🦠Natürlich finden die Brunch Termine mit dem zu dem Zeitpunkt der Veranstaltung geltenden Corona Auflagen der Regierung statt!\n☀☔Der Brunch findet bei jeder Witterung statt – bei Schönwetter im Schlossgarten & bei Regen speisen wir in den Schloss Sälen🏰.
URL:https://schloss-dornhofen.at/veranstaltung/brunch-mediterran/
LOCATION:Schlossweg 4\, 8062 Eggersdorf
CATEGORIES:Brunch
ATTACH;FMTTYPE=image/jpeg:https://schloss-dornhofen.at/wp-content/uploads/2021/07/Event-ausgebucht.jpg
END:VEVENT
END:VCALENDAR