BEGIN:VCALENDAR
VERSION:2.0
PRODID:-//schloss-dornhofen.at - ECPv6.15.20//NONSGML v1.0//EN
CALSCALE:GREGORIAN
METHOD:PUBLISH
X-ORIGINAL-URL:https://schloss-dornhofen.at
X-WR-CALDESC:Veranstaltungen für schloss-dornhofen.at
REFRESH-INTERVAL;VALUE=DURATION:PT1H
X-Robots-Tag:noindex
X-PUBLISHED-TTL:PT1H
BEGIN:VTIMEZONE
TZID:Europe/Berlin
BEGIN:DAYLIGHT
TZOFFSETFROM:+0100
TZOFFSETTO:+0200
TZNAME:CEST
DTSTART:20200329T010000
END:DAYLIGHT
BEGIN:STANDARD
TZOFFSETFROM:+0200
TZOFFSETTO:+0100
TZNAME:CET
DTSTART:20201025T010000
END:STANDARD
BEGIN:DAYLIGHT
TZOFFSETFROM:+0100
TZOFFSETTO:+0200
TZNAME:CEST
DTSTART:20210328T010000
END:DAYLIGHT
BEGIN:STANDARD
TZOFFSETFROM:+0200
TZOFFSETTO:+0100
TZNAME:CET
DTSTART:20211031T010000
END:STANDARD
BEGIN:DAYLIGHT
TZOFFSETFROM:+0100
TZOFFSETTO:+0200
TZNAME:CEST
DTSTART:20220327T010000
END:DAYLIGHT
BEGIN:STANDARD
TZOFFSETFROM:+0200
TZOFFSETTO:+0100
TZNAME:CET
DTSTART:20221030T010000
END:STANDARD
END:VTIMEZONE
BEGIN:VEVENT
DTSTART;TZID=Europe/Berlin:20210711T110000
DTEND;TZID=Europe/Berlin:20210711T140000
DTSTAMP:20260424T221957
CREATED:20210610T123348Z
LAST-MODIFIED:20210622T190129Z
UID:16745-1626001200-1626012000@schloss-dornhofen.at
SUMMARY:Brunch - Griechenland
DESCRIPTION:Feines aus der griechischen Küche 🇬🇷 erwartet Euch bei unserem Brunch am 11 Juli.\nSouflaki\, Moussaka\, Tzatziki\,  Oliven\,🫒 Lammfleisch\, 🥗 Salate\, Griechischer Joghurt mit Nüsse und vieles mehr. \nvom Frühstück🍳🍉 bis zum Süßem\,  🌶🥖🫑 wir haben für alle etwas dabei \nEin Gläschen Ouzo darf natürlich auch nicht fehlen. \nMusikalisch Begleitet werden wir an diesem herrlichen Tag von \n🪕🎼🇬🇷 Sarantis Mantzourakis \n📥 Reservierungen gerne unter event@schloss-dornhofen.at \n💳 Preis pro Person 54\,-€/ Kinder von 6-14Jahre  21\,-€ inklusive Aperitif\,  Essen vom Buffet\, Saftbar\, Kaffee  vom Buffet) \n🦠Natürlich finden die Brunch Termine mit dem zu dem Zeitpunkt der Veranstaltung geltenden Corona Auflagen der Regierung statt! \n☀☔Der Brunch findet bei jeder Witterung statt\, bei Schönwetter im Schlossgarten\, bei Regen wird in den Schloss Sälen🏰 gespeist.
URL:https://schloss-dornhofen.at/veranstaltung/griechenland/
CATEGORIES:Brunch,Live-Musik
ATTACH;FMTTYPE=image/jpeg:https://schloss-dornhofen.at/wp-content/uploads/2021/06/Event-Grichenland.jpg
END:VEVENT
BEGIN:VEVENT
DTSTART;TZID=Europe/Berlin:20210718T110000
DTEND;TZID=Europe/Berlin:20210718T140000
DTSTAMP:20260424T221957
CREATED:20210610T121906Z
LAST-MODIFIED:20210628T161549Z
UID:16734-1626606000-1626616800@schloss-dornhofen.at
SUMMARY:Brunch - Spanien - Ole'
DESCRIPTION:Vorankündigung \n  \n  \nSpanien Olé \nDa klappern die Kastagnetten\, bei unserer Paella\, 🍲lasst euch überraschen \nSpanien 🇪🇸zu Gast im Schloss Dornhofen🏰. \nFeinste Tapas\,   Iberico Schinken\, eisgekühlte  Gazpacho\, 🥒🍅Tortilla\, Fisch vom Grill und  vieles mehr. \nSüßes 🥧🍮darf natürlich auch nicht fehlen von Crema Catalana\, frische Churros oder Mandelkuchen\, Spanien ist bekannt für seine süßen Gerichte.  \nNehmt  platz im Schlossgarten\, genießt ein Glas Sangria 🍹und lasst euch von uns kulinarisch verwöhnen.  \nNatürlich gibt es auch eine Musikalische Umrahmung unseres Brunche‘s 🎼. \n📥 Reservierungen gerne unter event@schloss-dornhofen.at \n💳 Preis pro Person 54\,-€/ Kinder von 6-14Jahre  21\,-€ inklusive Aperitif\,  Essen vom Buffet\, Saftbar\, Kaffee  vom Buffet) \n🦠Natürlich finden die Brunch Termine mit dem zu dem Zeitpunkt der Veranstaltung geltenden Corona Auflagen der Regierung statt! \n☀☔Der Brunch findet bei jeder Witterung statt\, bei Schönwetter im Schlossgarten\, bei Regen wird in den Schloss Sälen🏰 gespeist.
URL:https://schloss-dornhofen.at/veranstaltung/brunch-spanien/
LOCATION:Schlossweg 4\, 8062 Eggersdorf
CATEGORIES:Brunch
ATTACH;FMTTYPE=image/jpeg:https://schloss-dornhofen.at/wp-content/uploads/2021/06/Brunch-Spanien.jpg
END:VEVENT
BEGIN:VEVENT
DTSTART;TZID=Europe/Berlin:20210724T080000
DTEND;TZID=Europe/Berlin:20210724T170000
DTSTAMP:20260424T221957
CREATED:20210724T185955Z
LAST-MODIFIED:20210724T185955Z
UID:16836-1627113600-1627146000@schloss-dornhofen.at
SUMMARY:Austro POP
DESCRIPTION:  \nHerzlich willkommen\, in Österreich.🇦🇹 \nHeute gibt es einen Ohrenschmaus 🎼vom feinsten\, unser Brunch wir begleitet vom Duo \nZWASAM – Das Singer-Songwriter Ehepaar aus der Steiermark  \nWir laden ein zu einem unvergesslichen Urlaub der Geschmacksknospen in unserer schönen Heimat!Mit herrlichen Gerichten aus der kulinarischen Hochburg Österreichs.🇦🇹\nWir starten mit steirischer Jause\, treffen uns bei den Suppen\,\nvom Backhendl 🍗 Tafelspitz mit Rösterdapfel🥔\, Spinat und Spiegelei🍳Kalbswiener mit Erdapfelsalat\, Forellenfilet auf Wurzelgemüse\, Krautstrudel Käferbohnen\, Käsespätzle\, und vieles mehr.\nZuckersüß verwöhnen wir euch mit Apfelstrudel\,🥧Kürbiskern Mousse\, oder Zwetschkenknödel. \n📥 Reservierungen gerne unter event@schloss-dornhofen.at\n💳 Preis pro Person 54\,-€/ Kinder von 6-14Jahre  21\,-€ inklusive Aperitif\,  Essen vom Buffet\, Saftbar\, Kaffee  vom Buffet)\n🦠Natürlich finden die Brunch Termine mit dem zu dem Zeitpunkt der Veranstaltung geltenden Corona Auflagen der Regierung statt!\n☀☔Der Brunch findet bei jeder Witterung statt\, bei Schönwetter im Schlossgarten\, bei Regen wird in den Schloss Sälen🏰 gespeist.
URL:https://schloss-dornhofen.at/veranstaltung/austro-pop/
END:VEVENT
END:VCALENDAR