BEGIN:VCALENDAR
VERSION:2.0
PRODID:-//schloss-dornhofen.at - ECPv6.15.20//NONSGML v1.0//EN
CALSCALE:GREGORIAN
METHOD:PUBLISH
X-ORIGINAL-URL:https://schloss-dornhofen.at
X-WR-CALDESC:Veranstaltungen für schloss-dornhofen.at
REFRESH-INTERVAL;VALUE=DURATION:PT1H
X-Robots-Tag:noindex
X-PUBLISHED-TTL:PT1H
BEGIN:VTIMEZONE
TZID:Europe/Berlin
BEGIN:DAYLIGHT
TZOFFSETFROM:+0100
TZOFFSETTO:+0200
TZNAME:CEST
DTSTART:20200329T010000
END:DAYLIGHT
BEGIN:STANDARD
TZOFFSETFROM:+0200
TZOFFSETTO:+0100
TZNAME:CET
DTSTART:20201025T010000
END:STANDARD
BEGIN:DAYLIGHT
TZOFFSETFROM:+0100
TZOFFSETTO:+0200
TZNAME:CEST
DTSTART:20210328T010000
END:DAYLIGHT
BEGIN:STANDARD
TZOFFSETFROM:+0200
TZOFFSETTO:+0100
TZNAME:CET
DTSTART:20211031T010000
END:STANDARD
BEGIN:DAYLIGHT
TZOFFSETFROM:+0100
TZOFFSETTO:+0200
TZNAME:CEST
DTSTART:20220327T010000
END:DAYLIGHT
BEGIN:STANDARD
TZOFFSETFROM:+0200
TZOFFSETTO:+0100
TZNAME:CET
DTSTART:20221030T010000
END:STANDARD
END:VTIMEZONE
BEGIN:VEVENT
DTSTART;TZID=Europe/Berlin:20210613T100000
DTEND;TZID=Europe/Berlin:20210613T140000
DTSTAMP:20260424T233707
CREATED:20210606T172457Z
LAST-MODIFIED:20210607T122028Z
UID:16716-1623578400-1623592800@schloss-dornhofen.at
SUMMARY:Vatertagsbrunch (AUSGEBUCHT)
DESCRIPTION:Leider ist unser  Brunch Termin AUSGEBUCHT. \nEin Hoch auf die Väter!!!🙋‍🙋🏽Lust auf BBQ mit dem Papa bei uns?🍗  Am Vatertag werfen wir die Griller an\, bereiten unsere Grillkiste vor und: TAADAAA für unsere jungen Gäste gibt es einen Steckerl-Grillplatz zum selber grillen. & für die Zwerge gibt es eine super leckere Saftbar🧃 Empfangen würden wir euch ab 10:00 Uhr\, quasi zum Frühstück mit Speck und Ei\, Schinken und Käse\, oder darf’s doch eher Müsli und ein Marmelade Brot sein? \nAlles was das Frühstücksherz höher schlagen lässt\, haben wir für euch vorbereitet!🍳🥓🥞 Ab 11:30 Uhr wird gegrillt: vom Steak bis zum Burger\, pullet Pork oder Ripperl aus der Grillkiste\, fein würziges Kesselgulasch natürlich auch gaaaaaaanz viel Gemüse🫑🥦🌽 Euer Bier dürft ihr zur Feier des Tages\, selber Zapfen. Zum Abschluss verführen wir den süßen Gaumen mit Waffeln\, Kuchen\, Topfen Mousse und vielem mehr😋🍫 \n📥 Reservierungen gerne unter event@schloss-dornhofen.at\n💳 Preis pro Person 46 € / Kinder von 6-14Jahre  19 €\n(inklusive Aperitif\, Bier zum selber Zapfen\, Essen vom Buffet\, Säfte und Filter Kaffee und Tee vom Buffet) \n🦠Natürlich finden die Brunch Termine mit dem zu dem Zeitpunkt der Veranstaltung geltenden Corona Auflagen der Regierung statt! \n☀☔Der Brunch findet bei jeder Witterung statt\, bei Schönwetter im Schlossgarten\, bei Regen wird in den Schloss Sälen🏰 gespeist.\n*****\nNächster Brunch Termin: 04. Juli 2021  unter dem Motto „BELLA
URL:https://schloss-dornhofen.at/veranstaltung/vatertags-brunch/
LOCATION:Schlossweg 4\, 8062 Eggersdorf
CATEGORIES:Brunch
ATTACH;FMTTYPE=image/jpeg:https://schloss-dornhofen.at/wp-content/uploads/2021/06/Vatertag-Grillen.jpg
END:VEVENT
END:VCALENDAR